Workbook
Name ACİL_DURUM_UYGUNSUZLUĞU: Data!$V$2:$V$48
Name ALAN_SINIRLANDIRMA_UYGUNSUZLUKLARI: Data!$X$2:$X$42
Name ARAÇ_MAKİNE_EKİPMAN_UYGUNSUZLUKLARI: Data!$P$2:$P$42
Name AYDINLATMA_UYGUNSUZLUKLARI: Data!$AB$2:$AB$42
Name DEPO_İSTİFLEME_UYGUNSUZLUKLARI: Data!$AF$2:$AF$42
Name ELEKTRİK_UYGUNSUZLUKLARI: Data!$K$2:$K$42
Name GÖREV_YETKİ_DIŞINDA_ÇALIŞMA_PERSONEL_ÇALIŞTIRMA: Data!$AD$2:$AD$42
Name HİJYEN_UYGUNSUZLUKLARI: Data!$AA$2:$AA$42
Name ISLAK_KAYGAN_ZEMİN: Data!$S$2:$S$42
Name İMALAT_MÜHENDİSLİK_YÖNETİM_UYGUNSUZLUKLARI: Data!$W$2:$W$42
Name İSKELE_UYGUNSUZLUKLARI: Data!$M$2:$M$42
Name İSTİFLEME_TAŞIMA_UYGUNSUZLUKLARI: Data!$Z$2:$Z$42
Name İŞ_İZNİ_UYGUNSUZLUKLARI: Data!$U$2:$U$42
Name KALDIMA_OPERASYONU_UYGUNSUZLUKLARI: Data!$L$2:$L$42
Name KAPALI_KISITLI_ALAN_UYGUNSUZLUKLARI: Data!$T$2:$T$42
Name KİMYASAL_MADDE_UYGUNSUZLUKLARI: Data!$AE$2:$AE$42
Name KİŞİSEL_NEDENLER: Data!$AH$2:$AH$42
Name KKD_UYGUNSUZLUKLARI: Data!$J$2:$J$42
Name SABİTLENMEYEN_DÜŞME_İHTİMALİ_BULUNAN_MALZEME_ARAÇ_EKİPMAN: Data!$R$2:$R$42
Name SAĞLIK_UYGUNSUZLUKLARI: Data!$AC$2:$AC$42
Name SU_GIDA_VB._UYGUNSUZLUKLARI: Data!$AI$2:$AI$42
Name TALİMAT_PROSEDÜRLERE_UYMAMA: Data!$O$2:$O$42
Name TERMAL_KONFOR_ERGONOMİ_UYGUNSUZLUKLARI: Data!$AG$2:$AG$42
Name TERTİP_DÜZEN_EKSİKLİĞİ: Data!$I$2:$I$42
Name TRAFİK_KURALLARINA_UYMAMA: Data!$Q$2:$Q$42
Name UYARI_İKAZ_UYGUNSUZLUKLARI: Data!$Y$2:$Y$42
Name YÜKSEKTE_ÇALIŞMA_UYGUNSUZLUKLARI: Data!$N$2:$N$42

Sheet Dashboard
C11: Rapor Başlangıç Tarihi: | G11: 45658
C13: Rapor Bitiş Tarihi: | G13: 46022

Sheet Dashboard Data
B1: UYGUNSUZLUK KAYNAĞI | C1: TOPLAM | D1: RAPORLAMA DÖNEMİ | F1: Toplam Uygunsuzluk | G1: Raporlama Dönemi Uygunsuzluk | I1: UYGUNSUZLUK NEDENLERİ | J1: TOPLAM | K1: RAPORLAMA DÖNEMİ | O1: Toplam | P1: Raporlama Dönemi | R1: İŞ GÜVENLİĞİ UZMANI | S1: TOPLAM TESPİT | T1: RAPORLAMA DÖNEMİ TESPİTİ | V1: FİRMA ADI | W1: TOPLAM | X1: RAPORLAMA DÖNEMİ TESPİTİ | Z1: RİSK SEVİYESİ | AA1: TOPLAM | AB1: RAPORLAMA DÖNEMİ TESPİTİ
B2: =Data!A2 -> SAHA DENETİMİ | C2: =COUNTIF('Uygunsuzluk Takip'!H:H,'Dashboard Data'!B2) -> 137 | D2: =COUNTIFS('Uygunsuzluk Takip'!B:B,">="&Dashboard!$G$11,'Uygunsuzluk Takip'!B:B,"<="&Dashboard!$G$13,'Uygunsuzluk Takip'!H:H,'Dashboard Data'!B2) -> 48 | F2: =SUM(F3:F4) -> 184 | G2: =SUM(G3:G4) -> 63 | I2: =Data!I$1 -> TERTİP_DÜZEN_EKSİKLİĞİ | J2: =COUNTIF('Uygunsuzluk Takip'!L:L,'Dashboard Data'!I2)+COUNTIF('Uygunsuzluk Takip'!N:N,'Dashboard Data'!I2) -> 7 | K2: =COUNTIFS('Uygunsuzluk Takip'!B:B,">="&Dashboard!$G$11,'Uygunsuzluk Takip'!B:B,"<="&Dashboard!$G$13,'Uygunsuzluk Takip'!L:L,'Dashboard Data'!I2)+COUNTIFS('Uygunsuzluk Takip'!B:B,">="&Dashboard!$G$11,'Uygunsuzluk Takip'!B:B,"<="&Dashboard!$G$13,'Uygunsuzluk Takip'!N:N,'Dashboard Data'!I2) -> 2 | N2: YAZILI UYARI TALEP EDİLEN ÇALIŞAN SAYISI | O2: =SUM('Uygunsuzluk Takip'!P:P) -> 198 | P2: =SUMIFS('Uygunsuzluk Takip'!P:P,'Uygunsuzluk Takip'!B:B,">="&Dashboard!$G$11,'Uygunsuzluk Takip'!B:B,"<="&Dashboard!$G$13) -> 63 | R2: =Data!G2 -> İŞ GÜVENLİĞİ UZMANI GİRİNİZ-1 | S2: =COUNTIF('Uygunsuzluk Takip'!AC:AC,'Dashboard Data'!R2) -> 3 | T2: =COUNTIFS('Uygunsuzluk Takip'!B:B,">="&Dashboard!$G$11,'Uygunsuzluk Takip'!B:B,"<="&Dashboard!$G$13,'Uygunsuzluk Takip'!AC:AC,'Dashboard Data'!R2) -> 0 | V2: =Data!C2 -> FİRMA ADI GİRİNİZ-1 | W2: =COUNTIF('Uygunsuzluk Takip'!C:C,'Dashboard Data'!V2) -> 4 | X2: =COUNTIFS('Uygunsuzluk Takip'!B:B,">="&Dashboard!$G$11,'Uygunsuzluk Takip'!B:B,"<="&Dashboard!$G$13,'Uygunsuzluk Takip'!C:C,'Dashboard Data'!V2) -> 2 | Z2: DÜŞÜK | AA2: =COUNTIF('Uygunsuzluk Takip'!K:K,Z2) -> 46 | AB2: =COUNTIFS('Uygunsuzluk Takip'!B:B,">="&Dashboard!$G$11,'Uygunsuzluk Takip'!B:B,"<="&Dashboard!$G$13,'Uygunsuzluk Takip'!K:K,'Dashboard Data'!Z2) -> 18
B3: =Data!A3 -> DIŞ TETKİK | C3: =COUNTIF('Uygunsuzluk Takip'!H:H,'Dashboard Data'!B3) -> 14 | D3: =COUNTIFS('Uygunsuzluk Takip'!B:B,">="&Dashboard!$G$11,'Uygunsuzluk Takip'!B:B,"<="&Dashboard!$G$13,'Uygunsuzluk Takip'!H:H,'Dashboard Data'!B3) -> 7 | E3: Açık: | F3: =COUNTIF('Uygunsuzluk Takip'!Z:Z,"AÇIK") -> 10 | G3: =COUNTIFS('Uygunsuzluk Takip'!B:B,">="&Dashboard!$G$11,'Uygunsuzluk Takip'!B:B,"<="&Dashboard!$G$13,'Uygunsuzluk Takip'!Z:Z,"AÇIK") -> 10 | I3: =Data!J$1 -> KKD_UYGUNSUZLUKLARI | J3: =COUNTIF('Uygunsuzluk Takip'!L:L,'Dashboard Data'!I3)+COUNTIF('Uygunsuzluk Takip'!N:N,'Dashboard Data'!I3) -> 7 | K3: =COUNTIFS('Uygunsuzluk Takip'!B:B,">="&Dashboard!$G$11,'Uygunsuzluk Takip'!B:B,"<="&Dashboard!$G$13,'Uygunsuzluk Takip'!L:L,'Dashboard Data'!I3)+COUNTIFS('Uygunsuzluk Takip'!B:B,">="&Dashboard!$G$11,'Uygunsuzluk Takip'!B:B,"<="&Dashboard!$G$13,'Uygunsuzluk Takip'!N:N,'Dashboard Data'!I3) -> 2 | N3: EĞİTİM TALEP EDİLEN PERSONEL SAYISI | O3: =SUM('Uygunsuzluk Takip'!Q:Q) -> 364 | P3: =SUMIFS('Uygunsuzluk Takip'!Q:Q,'Uygunsuzluk Takip'!B:B,">="&Dashboard!$G$11,'Uygunsuzluk Takip'!B:B,"<="&Dashboard!$G$13) -> 126 | R3: =Data!G3 -> İŞ GÜVENLİĞİ UZMANI GİRİNİZ-2 | S3: =COUNTIF('Uygunsuzluk Takip'!AC:AC,'Dashboard Data'!R3) -> 3 | T3: =COUNTIFS('Uygunsuzluk Takip'!B:B,">="&Dashboard!$G$11,'Uygunsuzluk Takip'!B:B,"<="&Dashboard!$G$13,'Uygunsuzluk Takip'!AC:AC,'Dashboard Data'!R3) -> 0 | V3: =Data!C3 -> FİRMA ADI GİRİNİZ-2 | W3: =COUNTIF('Uygunsuzluk Takip'!C:C,'Dashboard Data'!V3) -> 4 | X3: =COUNTIFS('Uygunsuzluk Takip'!B:B,">="&Dashboard!$G$11,'Uygunsuzluk Takip'!B:B,"<="&Dashboard!$G$13,'Uygunsuzluk Takip'!C:C,'Dashboard Data'!V3) -> 2 | Z3: ORTA | AA3: =COUNTIF('Uygunsuzluk Takip'!K:K,Z3) -> 41 | AB3: =COUNTIFS('Uygunsuzluk Takip'!B:B,">="&Dashboard!$G$11,'Uygunsuzluk Takip'!B:B,"<="&Dashboard!$G$13,'Uygunsuzluk Takip'!K:K,'Dashboard Data'!Z3) -> 14
B4: =Data!A4 -> İÇ TETKİK | C4: =COUNTIF('Uygunsuzluk Takip'!H:H,'Dashboard Data'!B4) -> 10 | D4: =COUNTIFS('Uygunsuzluk Takip'!B:B,">="&Dashboard!$G$11,'Uygunsuzluk Takip'!B:B,"<="&Dashboard!$G$13,'Uygunsuzluk Takip'!H:H,'Dashboard Data'!B4) -> 1 | E4: Kapalı: | F4: =COUNTIF('Uygunsuzluk Takip'!Z:Z,"KAPALI") -> 174 | G4: =COUNTIFS('Uygunsuzluk Takip'!B:B,">="&Dashboard!$G$11,'Uygunsuzluk Takip'!B:B,"<="&Dashboard!$G$13,'Uygunsuzluk Takip'!Z:Z,"KAPALI") -> 53 | I4: =Data!K$1 -> ELEKTRİK_UYGUNSUZLUKLARI | J4: =COUNTIF('Uygunsuzluk Takip'!L:L,'Dashboard Data'!I4)+COUNTIF('Uygunsuzluk Takip'!N:N,'Dashboard Data'!I4) -> 10 | K4: =COUNTIFS('Uygunsuzluk Takip'!B:B,">="&Dashboard!$G$11,'Uygunsuzluk Takip'!B:B,"<="&Dashboard!$G$13,'Uygunsuzluk Takip'!L:L,'Dashboard Data'!I4)+COUNTIFS('Uygunsuzluk Takip'!B:B,">="&Dashboard!$G$11,'Uygunsuzluk Takip'!B:B,"<="&Dashboard!$G$13,'Uygunsuzluk Takip'!N:N,'Dashboard Data'!I4) -> 2 | N4: YEMİYE KESİNTİSİ TALEP EDİLEN PERSONEL SAYISI | O4: =SUM('Uygunsuzluk Takip'!R:R) -> 150 | P4: =SUMIFS('Uygunsuzluk Takip'!R:R,'Uygunsuzluk Takip'!B:B,">="&Dashboard!$G$11,'Uygunsuzluk Takip'!B:B,"<="&Dashboard!$G$13) -> 53 | R4: =Data!G4 -> İŞ GÜVENLİĞİ UZMANI GİRİNİZ-3 | S4: =COUNTIF('Uygunsuzluk Takip'!AC:AC,'Dashboard Data'!R4) -> 4 | T4: =COUNTIFS('Uygunsuzluk Takip'!B:B,">="&Dashboard!$G$11,'Uygunsuzluk Takip'!B:B,"<="&Dashboard!$G$13,'Uygunsuzluk Takip'!AC:AC,'Dashboard Data'!R4) -> 1 | V4: =Data!C4 -> FİRMA ADI GİRİNİZ-3 | W4: =COUNTIF('Uygunsuzluk Takip'!C:C,'Dashboard Data'!V4) -> 4 | X4: =COUNTIFS('Uygunsuzluk Takip'!B:B,">="&Dashboard!$G$11,'Uygunsuzluk Takip'!B:B,"<="&Dashboard!$G$13,'Uygunsuzluk Takip'!C:C,'Dashboard Data'!V4) -> 2 | Z4: YÜKSEK | AA4: =COUNTIF('Uygunsuzluk Takip'!K:K,Z4) -> 60 | AB4: =COUNTIFS('Uygunsuzluk Takip'!B:B,">="&Dashboard!$G$11,'Uygunsuzluk Takip'!B:B,"<="&Dashboard!$G$13,'Uygunsuzluk Takip'!K:K,'Dashboard Data'!Z4) -> 18
B5: =Data!A5 -> DOKÜMAN UYGUNSUZLUĞU | C5: =COUNTIF('Uygunsuzluk Takip'!H:H,'Dashboard Data'!B5) -> 6 | D5: =COUNTIFS('Uygunsuzluk Takip'!B:B,">="&Dashboard!$G$11,'Uygunsuzluk Takip'!B:B,"<="&Dashboard!$G$13,'Uygunsuzluk Takip'!H:H,'Dashboard Data'!B5) -> 0 | I5: =Data!L$1 -> KALDIMA_OPERASYONU_UYGUNSUZLUKLARI | J5: =COUNTIF('Uygunsuzluk Takip'!L:L,'Dashboard Data'!I5)+COUNTIF('Uygunsuzluk Takip'!N:N,'Dashboard Data'!I5) -> 7 | K5: =COUNTIFS('Uygunsuzluk Takip'!B:B,">="&Dashboard!$G$11,'Uygunsuzluk Takip'!B:B,"<="&Dashboard!$G$13,'Uygunsuzluk Takip'!L:L,'Dashboard Data'!I5)+COUNTIFS('Uygunsuzluk Takip'!B:B,">="&Dashboard!$G$11,'Uygunsuzluk Takip'!B:B,"<="&Dashboard!$G$13,'Uygunsuzluk Takip'!N:N,'Dashboard Data'!I5) -> 2 | N5: KESİLEN YEVMİYE MİKTARI | O5: =SUM('Uygunsuzluk Takip'!S:S) -> 12600 | P5: =SUMIFS('Uygunsuzluk Takip'!S:S,'Uygunsuzluk Takip'!B:B,">="&Dashboard!$G$11,'Uygunsuzluk Takip'!B:B,"<="&Dashboard!$G$13) -> 5300 | R5: =Data!G5 -> İŞ GÜVENLİĞİ UZMANI GİRİNİZ-4 | S5: =COUNTIF('Uygunsuzluk Takip'!AC:AC,'Dashboard Data'!R5) -> 5 | T5: =COUNTIFS('Uygunsuzluk Takip'!B:B,">="&Dashboard!$G$11,'Uygunsuzluk Takip'!B:B,"<="&Dashboard!$G$13,'Uygunsuzluk Takip'!AC:AC,'Dashboard Data'!R5) -> 2 | V5: =Data!C5 -> FİRMA ADI GİRİNİZ-4 | W5: =COUNTIF('Uygunsuzluk Takip'!C:C,'Dashboard Data'!V5) -> 7 | X5: =COUNTIFS('Uygunsuzluk Takip'!B:B,">="&Dashboard!$G$11,'Uygunsuzluk Takip'!B:B,"<="&Dashboard!$G$13,'Uygunsuzluk Takip'!C:C,'Dashboard Data'!V5) -> 2 | Z5: ÇOK YÜKSEK | AA5: =COUNTIF('Uygunsuzluk Takip'!K:K,Z5) -> 37 | AB5: =COUNTIFS('Uygunsuzluk Takip'!B:B,">="&Dashboard!$G$11,'Uygunsuzluk Takip'!B:B,"<="&Dashboard!$G$13,'Uygunsuzluk Takip'!K:K,'Dashboard Data'!Z5) -> 13
B6: =Data!A6 -> ÇALIŞAN BİLDİRİMİ | C6: =COUNTIF('Uygunsuzluk Takip'!H:H,'Dashboard Data'!B6) -> 17 | D6: =COUNTIFS('Uygunsuzluk Takip'!B:B,">="&Dashboard!$G$11,'Uygunsuzluk Takip'!B:B,"<="&Dashboard!$G$13,'Uygunsuzluk Takip'!H:H,'Dashboard Data'!B6) -> 7 | I6: =Data!M$1 -> İSKELE_UYGUNSUZLUKLARI | J6: =COUNTIF('Uygunsuzluk Takip'!L:L,'Dashboard Data'!I6)+COUNTIF('Uygunsuzluk Takip'!N:N,'Dashboard Data'!I6) -> 7 | K6: =COUNTIFS('Uygunsuzluk Takip'!B:B,">="&Dashboard!$G$11,'Uygunsuzluk Takip'!B:B,"<="&Dashboard!$G$13,'Uygunsuzluk Takip'!L:L,'Dashboard Data'!I6)+COUNTIFS('Uygunsuzluk Takip'!B:B,">="&Dashboard!$G$11,'Uygunsuzluk Takip'!B:B,"<="&Dashboard!$G$13,'Uygunsuzluk Takip'!N:N,'Dashboard Data'!I6) -> 2 | N6: CEZA MİKTARI | O6: =SUM('Uygunsuzluk Takip'!T:T) -> 57750 | P6: =SUMIFS('Uygunsuzluk Takip'!T:T,'Uygunsuzluk Takip'!B:B,">="&Dashboard!$G$11,'Uygunsuzluk Takip'!B:B,"<="&Dashboard!$G$13) -> 7500 | R6: =Data!G6 -> İŞ GÜVENLİĞİ UZMANI GİRİNİZ-5 | S6: =COUNTIF('Uygunsuzluk Takip'!AC:AC,'Dashboard Data'!R6) -> 7 | T6: =COUNTIFS('Uygunsuzluk Takip'!B:B,">="&Dashboard!$G$11,'Uygunsuzluk Takip'!B:B,"<="&Dashboard!$G$13,'Uygunsuzluk Takip'!AC:AC,'Dashboard Data'!R6) -> 3 | V6: =Data!C6 -> FİRMA ADI GİRİNİZ-5 | W6: =COUNTIF('Uygunsuzluk Takip'!C:C,'Dashboard Data'!V6) -> 9 | X6: =COUNTIFS('Uygunsuzluk Takip'!B:B,">="&Dashboard!$G$11,'Uygunsuzluk Takip'!B:B,"<="&Dashboard!$G$13,'Uygunsuzluk Takip'!C:C,'Dashboard Data'!V6) -> 3
B7: =Data!A7 -> MÜFETTİŞ DENETİMİ | C7: =COUNTIF('Uygunsuzluk Takip'!H:H,'Dashboard Data'!B7) -> 0 | D7: =COUNTIFS('Uygunsuzluk Takip'!B:B,">="&Dashboard!$G$11,'Uygunsuzluk Takip'!B:B,"<="&Dashboard!$G$13,'Uygunsuzluk Takip'!H:H,'Dashboard Data'!B7) -> 0 | I7: =Data!N$1 -> YÜKSEKTE_ÇALIŞMA_UYGUNSUZLUKLARI | J7: =COUNTIF('Uygunsuzluk Takip'!L:L,'Dashboard Data'!I7)+COUNTIF('Uygunsuzluk Takip'!N:N,'Dashboard Data'!I7) -> 8 | K7: =COUNTIFS('Uygunsuzluk Takip'!B:B,">="&Dashboard!$G$11,'Uygunsuzluk Takip'!B:B,"<="&Dashboard!$G$13,'Uygunsuzluk Takip'!L:L,'Dashboard Data'!I7)+COUNTIFS('Uygunsuzluk Takip'!B:B,">="&Dashboard!$G$11,'Uygunsuzluk Takip'!B:B,"<="&Dashboard!$G$13,'Uygunsuzluk Takip'!N:N,'Dashboard Data'!I7) -> 2 | N7: SAHADAN MEN EDİLEN ÇALIŞAN SAYISI | O7: =SUM('Uygunsuzluk Takip'!U:U) -> 17 | P7: =SUMIFS('Uygunsuzluk Takip'!U:U,'Uygunsuzluk Takip'!B:B,">="&Dashboard!$G$11,'Uygunsuzluk Takip'!B:B,"<="&Dashboard!$G$13) -> 3 | R7: =Data!G7 -> İŞ GÜVENLİĞİ UZMANI GİRİNİZ-6 | S7: =COUNTIF('Uygunsuzluk Takip'!AC:AC,'Dashboard Data'!R7) -> 7 | T7: =COUNTIFS('Uygunsuzluk Takip'!B:B,">="&Dashboard!$G$11,'Uygunsuzluk Takip'!B:B,"<="&Dashboard!$G$13,'Uygunsuzluk Takip'!AC:AC,'Dashboard Data'!R7) -> 3 | V7: =Data!C7 -> FİRMA ADI GİRİNİZ-6 | W7: =COUNTIF('Uygunsuzluk Takip'!C:C,'Dashboard Data'!V7) -> 10 | X7: =COUNTIFS('Uygunsuzluk Takip'!B:B,">="&Dashboard!$G$11,'Uygunsuzluk Takip'!B:B,"<="&Dashboard!$G$13,'Uygunsuzluk Takip'!C:C,'Dashboard Data'!V7) -> 3
B8: =Data!A8 -> DİĞER | C8: =COUNTIF('Uygunsuzluk Takip'!H:H,'Dashboard Data'!B8) -> 0 | D8: =COUNTIFS('Uygunsuzluk Takip'!B:B,">="&Dashboard!$G$11,'Uygunsuzluk Takip'!B:B,"<="&Dashboard!$G$13,'Uygunsuzluk Takip'!H:H,'Dashboard Data'!B8) -> 0 | I8: =Data!O$1 -> TALİMAT_PROSEDÜRLERE_UYMAMA | J8: =COUNTIF('Uygunsuzluk Takip'!L:L,'Dashboard Data'!I8)+COUNTIF('Uygunsuzluk Takip'!N:N,'Dashboard Data'!I8) -> 7 | K8: =COUNTIFS('Uygunsuzluk Takip'!B:B,">="&Dashboard!$G$11,'Uygunsuzluk Takip'!B:B,"<="&Dashboard!$G$13,'Uygunsuzluk Takip'!L:L,'Dashboard Data'!I8)+COUNTIFS('Uygunsuzluk Takip'!B:B,">="&Dashboard!$G$11,'Uygunsuzluk Takip'!B:B,"<="&Dashboard!$G$13,'Uygunsuzluk Takip'!N:N,'Dashboard Data'!I8) -> 2 | N8: İŞ DURDURMA | O8: =COUNTIF('Uygunsuzluk Takip'!V:V,"VAR") -> 10 | P8: =COUNTIFS('Uygunsuzluk Takip'!B:B,">="&Dashboard!$G$11,'Uygunsuzluk Takip'!B:B,"<="&Dashboard!$G$13,'Uygunsuzluk Takip'!V:V,"VAR") -> 1 | R8: =Data!G8 -> İŞ GÜVENLİĞİ UZMANI GİRİNİZ-7 | S8: =COUNTIF('Uygunsuzluk Takip'!AC:AC,'Dashboard Data'!R8) -> 7 | T8: =COUNTIFS('Uygunsuzluk Takip'!B:B,">="&Dashboard!$G$11,'Uygunsuzluk Takip'!B:B,"<="&Dashboard!$G$13,'Uygunsuzluk Takip'!AC:AC,'Dashboard Data'!R8) -> 3 | V8: =Data!C8 -> FİRMA ADI GİRİNİZ-7 | W8: =COUNTIF('Uygunsuzluk Takip'!C:C,'Dashboard Data'!V8) -> 10 | X8: =COUNTIFS('Uygunsuzluk Takip'!B:B,">="&Dashboard!$G$11,'Uygunsuzluk Takip'!B:B,"<="&Dashboard!$G$13,'Uygunsuzluk Takip'!C:C,'Dashboard Data'!V8) -> 3
I9: =Data!P$1 -> ARAÇ_MAKİNE_EKİPMAN_UYGUNSUZLUKLARI | J9: =COUNTIF('Uygunsuzluk Takip'!L:L,'Dashboard Data'!I9)+COUNTIF('Uygunsuzluk Takip'!N:N,'Dashboard Data'!I9) -> 7 | K9: =COUNTIFS('Uygunsuzluk Takip'!B:B,">="&Dashboard!$G$11,'Uygunsuzluk Takip'!B:B,"<="&Dashboard!$G$13,'Uygunsuzluk Takip'!L:L,'Dashboard Data'!I9)+COUNTIFS('Uygunsuzluk Takip'!B:B,">="&Dashboard!$G$11,'Uygunsuzluk Takip'!B:B,"<="&Dashboard!$G$13,'Uygunsuzluk Takip'!N:N,'Dashboard Data'!I9) -> 2 | N9: İŞ AKDİ FESHİ TALEP EDİLEN PERSONEL SAYISI | O9: =SUM('Uygunsuzluk Takip'!W:W) -> 19 | P9: =SUMIFS('Uygunsuzluk Takip'!W:W,'Uygunsuzluk Takip'!B:B,">="&Dashboard!$G$11,'Uygunsuzluk Takip'!B:B,"<="&Dashboard!$G$13) -> 3 | R9: =Data!G9 -> İŞ GÜVENLİĞİ UZMANI GİRİNİZ-8 | S9: =COUNTIF('Uygunsuzluk Takip'!AC:AC,'Dashboard Data'!R9) -> 7 | T9: =COUNTIFS('Uygunsuzluk Takip'!B:B,">="&Dashboard!$G$11,'Uygunsuzluk Takip'!B:B,"<="&Dashboard!$G$13,'Uygunsuzluk Takip'!AC:AC,'Dashboard Data'!R9) -> 3 | V9: =Data!C9 -> FİRMA ADI GİRİNİZ-8 | W9: =COUNTIF('Uygunsuzluk Takip'!C:C,'Dashboard Data'!V9) -> 10 | X9: =COUNTIFS('Uygunsuzluk Takip'!B:B,">="&Dashboard!$G$11,'Uygunsuzluk Takip'!B:B,"<="&Dashboard!$G$13,'Uygunsuzluk Takip'!C:C,'Dashboard Data'!V9) -> 3
I10: =Data!Q$1 -> TRAFİK_KURALLARINA_UYMAMA | J10: =COUNTIF('Uygunsuzluk Takip'!L:L,'Dashboard Data'!I10)+COUNTIF('Uygunsuzluk Takip'!N:N,'Dashboard Data'!I10) -> 7 | K10: =COUNTIFS('Uygunsuzluk Takip'!B:B,">="&Dashboard!$G$11,'Uygunsuzluk Takip'!B:B,"<="&Dashboard!$G$13,'Uygunsuzluk Takip'!L:L,'Dashboard Data'!I10)+COUNTIFS('Uygunsuzluk Takip'!B:B,">="&Dashboard!$G$11,'Uygunsuzluk Takip'!B:B,"<="&Dashboard!$G$13,'Uygunsuzluk Takip'!N:N,'Dashboard Data'!I10) -> 2 | R10: =Data!G10 -> İŞ GÜVENLİĞİ UZMANI GİRİNİZ-9 | S10: =COUNTIF('Uygunsuzluk Takip'!AC:AC,'Dashboard Data'!R10) -> 6 | T10: =COUNTIFS('Uygunsuzluk Takip'!B:B,">="&Dashboard!$G$11,'Uygunsuzluk Takip'!B:B,"<="&Dashboard!$G$13,'Uygunsuzluk Takip'!AC:AC,'Dashboard Data'!R10) -> 2 | V10: =Data!C10 -> FİRMA ADI GİRİNİZ-9 | W10: =COUNTIF('Uygunsuzluk Takip'!C:C,'Dashboard Data'!V10) -> 11 | X10: =COUNTIFS('Uygunsuzluk Takip'!B:B,">="&Dashboard!$G$11,'Uygunsuzluk Takip'!B:B,"<="&Dashboard!$G$13,'Uygunsuzluk Takip'!C:C,'Dashboard Data'!V10) -> 3
I11: =Data!R$1 -> SABİTLENMEYEN_DÜŞME_İHTİMALİ_BULUNAN_MALZEME_ARAÇ_EKİPMAN | J11: =COUNTIF('Uygunsuzluk Takip'!L:L,'Dashboard Data'!I11)+COUNTIF('Uygunsuzluk Takip'!N:N,'Dashboard Data'!I11) -> 7 | K11: =COUNTIFS('Uygunsuzluk Takip'!B:B,">="&Dashboard!$G$11,'Uygunsuzluk Takip'!B:B,"<="&Dashboard!$G$13,'Uygunsuzluk Takip'!L:L,'Dashboard Data'!I11)+COUNTIFS('Uygunsuzluk Takip'!B:B,">="&Dashboard!$G$11,'Uygunsuzluk Takip'!B:B,"<="&Dashboard!$G$13,'Uygunsuzluk Takip'!N:N,'Dashboard Data'!I11) -> 2 | R11: =Data!G11 -> İŞ GÜVENLİĞİ UZMANI GİRİNİZ-10 | S11: =COUNTIF('Uygunsuzluk Takip'!AC:AC,'Dashboard Data'!R11) -> 6 | T11: =COUNTIFS('Uygunsuzluk Takip'!B:B,">="&Dashboard!$G$11,'Uygunsuzluk Takip'!B:B,"<="&Dashboard!$G$13,'Uygunsuzluk Takip'!AC:AC,'Dashboard Data'!R11) -> 2 | V11: =Data!C11 -> FİRMA ADI GİRİNİZ-10 | W11: =COUNTIF('Uygunsuzluk Takip'!C:C,'Dashboard Data'!V11) -> 11 | X11: =COUNTIFS('Uygunsuzluk Takip'!B:B,">="&Dashboard!$G$11,'Uygunsuzluk Takip'!B:B,"<="&Dashboard!$G$13,'Uygunsuzluk Takip'!C:C,'Dashboard Data'!V11) -> 4
I12: =Data!S$1 -> ISLAK_KAYGAN_ZEMİN | J12: =COUNTIF('Uygunsuzluk Takip'!L:L,'Dashboard Data'!I12)+COUNTIF('Uygunsuzluk Takip'!N:N,'Dashboard Data'!I12) -> 7 | K12: =COUNTIFS('Uygunsuzluk Takip'!B:B,">="&Dashboard!$G$11,'Uygunsuzluk Takip'!B:B,"<="&Dashboard!$G$13,'Uygunsuzluk Takip'!L:L,'Dashboard Data'!I12)+COUNTIFS('Uygunsuzluk Takip'!B:B,">="&Dashboard!$G$11,'Uygunsuzluk Takip'!B:B,"<="&Dashboard!$G$13,'Uygunsuzluk Takip'!N:N,'Dashboard Data'!I12) -> 2 | R12: =Data!G12 -> İŞ GÜVENLİĞİ UZMANI GİRİNİZ-11 | S12: =COUNTIF('Uygunsuzluk Takip'!AC:AC,'Dashboard Data'!R12) -> 7 | T12: =COUNTIFS('Uygunsuzluk Takip'!B:B,">="&Dashboard!$G$11,'Uygunsuzluk Takip'!B:B,"<="&Dashboard!$G$13,'Uygunsuzluk Takip'!AC:AC,'Dashboard Data'!R12) -> 2 | V12: =Data!C12 -> FİRMA ADI GİRİNİZ-11 | W12: =COUNTIF('Uygunsuzluk Takip'!C:C,'Dashboard Data'!V12) -> 10 | X12: =COUNTIFS('Uygunsuzluk Takip'!B:B,">="&Dashboard!$G$11,'Uygunsuzluk Takip'!B:B,"<="&Dashboard!$G$13,'Uygunsuzluk Takip'!C:C,'Dashboard Data'!V12) -> 4
I13: =Data!T$1 -> KAPALI_KISITLI_ALAN_UYGUNSUZLUKLARI | J13: =COUNTIF('Uygunsuzluk Takip'!L:L,'Dashboard Data'!I13)+COUNTIF('Uygunsuzluk Takip'!N:N,'Dashboard Data'!I13) -> 7 | K13: =COUNTIFS('Uygunsuzluk Takip'!B:B,">="&Dashboard!$G$11,'Uygunsuzluk Takip'!B:B,"<="&Dashboard!$G$13,'Uygunsuzluk Takip'!L:L,'Dashboard Data'!I13)+COUNTIFS('Uygunsuzluk Takip'!B:B,">="&Dashboard!$G$11,'Uygunsuzluk Takip'!B:B,"<="&Dashboard!$G$13,'Uygunsuzluk Takip'!N:N,'Dashboard Data'!I13) -> 2 | R13: =Data!G13 -> İŞ GÜVENLİĞİ UZMANI GİRİNİZ-12 | S13: =COUNTIF('Uygunsuzluk Takip'!AC:AC,'Dashboard Data'!R13) -> 7 | T13: =COUNTIFS('Uygunsuzluk Takip'!B:B,">="&Dashboard!$G$11,'Uygunsuzluk Takip'!B:B,"<="&Dashboard!$G$13,'Uygunsuzluk Takip'!AC:AC,'Dashboard Data'!R13) -> 2 | V13: =Data!C13 -> FİRMA ADI GİRİNİZ-12 | W13: =COUNTIF('Uygunsuzluk Takip'!C:C,'Dashboard Data'!V13) -> 12 | X13: =COUNTIFS('Uygunsuzluk Takip'!B:B,">="&Dashboard!$G$11,'Uygunsuzluk Takip'!B:B,"<="&Dashboard!$G$13,'Uygunsuzluk Takip'!C:C,'Dashboard Data'!V13) -> 4
I14: =Data!U$1 -> İŞ_İZNİ_UYGUNSUZLUKLARI | J14: =COUNTIF('Uygunsuzluk Takip'!L:L,'Dashboard Data'!I14)+COUNTIF('Uygunsuzluk Takip'!N:N,'Dashboard Data'!I14) -> 7 | K14: =COUNTIFS('Uygunsuzluk Takip'!B:B,">="&Dashboard!$G$11,'Uygunsuzluk Takip'!B:B,"<="&Dashboard!$G$13,'Uygunsuzluk Takip'!L:L,'Dashboard Data'!I14)+COUNTIFS('Uygunsuzluk Takip'!B:B,">="&Dashboard!$G$11,'Uygunsuzluk Takip'!B:B,"<="&Dashboard!$G$13,'Uygunsuzluk Takip'!N:N,'Dashboard Data'!I14) -> 2 | R14: =Data!G14 -> İŞ GÜVENLİĞİ UZMANI GİRİNİZ-13 | S14: =COUNTIF('Uygunsuzluk Takip'!AC:AC,'Dashboard Data'!R14) -> 7 | T14: =COUNTIFS('Uygunsuzluk Takip'!B:B,">="&Dashboard!$G$11,'Uygunsuzluk Takip'!B:B,"<="&Dashboard!$G$13,'Uygunsuzluk Takip'!AC:AC,'Dashboard Data'!R14) -> 2 | V14: =Data!C14 -> FİRMA ADI GİRİNİZ-13 | W14: =COUNTIF('Uygunsuzluk Takip'!C:C,'Dashboard Data'!V14) -> 14 | X14: =COUNTIFS('Uygunsuzluk Takip'!B:B,">="&Dashboard!$G$11,'Uygunsuzluk Takip'!B:B,"<="&Dashboard!$G$13,'Uygunsuzluk Takip'!C:C,'Dashboard Data'!V14) -> 6
I15: =Data!V$1 -> ACİL_DURUM_UYGUNSUZLUĞU | J15: =COUNTIF('Uygunsuzluk Takip'!L:L,'Dashboard Data'!I15)+COUNTIF('Uygunsuzluk Takip'!N:N,'Dashboard Data'!I15) -> 7 | K15: =COUNTIFS('Uygunsuzluk Takip'!B:B,">="&Dashboard!$G$11,'Uygunsuzluk Takip'!B:B,"<="&Dashboard!$G$13,'Uygunsuzluk Takip'!L:L,'Dashboard Data'!I15)+COUNTIFS('Uygunsuzluk Takip'!B:B,">="&Dashboard!$G$11,'Uygunsuzluk Takip'!B:B,"<="&Dashboard!$G$13,'Uygunsuzluk Takip'!N:N,'Dashboard Data'!I15) -> 3 | R15: =Data!G15 -> İŞ GÜVENLİĞİ UZMANI GİRİNİZ-14 | S15: =COUNTIF('Uygunsuzluk Takip'!AC:AC,'Dashboard Data'!R15) -> 7 | T15: =COUNTIFS('Uygunsuzluk Takip'!B:B,">="&Dashboard!$G$11,'Uygunsuzluk Takip'!B:B,"<="&Dashboard!$G$13,'Uygunsuzluk Takip'!AC:AC,'Dashboard Data'!R15) -> 2 | V15: =Data!C15 -> FİRMA ADI GİRİNİZ-14 | W15: =COUNTIF('Uygunsuzluk Takip'!C:C,'Dashboard Data'!V15) -> 14 | X15: =COUNTIFS('Uygunsuzluk Takip'!B:B,">="&Dashboard!$G$11,'Uygunsuzluk Takip'!B:B,"<="&Dashboard!$G$13,'Uygunsuzluk Takip'!C:C,'Dashboard Data'!V15) -> 6
I16: =Data!W$1 -> İMALAT_MÜHENDİSLİK_YÖNETİM_UYGUNSUZLUKLARI | J16: =COUNTIF('Uygunsuzluk Takip'!L:L,'Dashboard Data'!I16)+COUNTIF('Uygunsuzluk Takip'!N:N,'Dashboard Data'!I16) -> 7 | K16: =COUNTIFS('Uygunsuzluk Takip'!B:B,">="&Dashboard!$G$11,'Uygunsuzluk Takip'!B:B,"<="&Dashboard!$G$13,'Uygunsuzluk Takip'!L:L,'Dashboard Data'!I16)+COUNTIFS('Uygunsuzluk Takip'!B:B,">="&Dashboard!$G$11,'Uygunsuzluk Takip'!B:B,"<="&Dashboard!$G$13,'Uygunsuzluk Takip'!N:N,'Dashboard Data'!I16) -> 3 | R16: =Data!G16 -> İŞ GÜVENLİĞİ UZMANI GİRİNİZ-15 | S16: =COUNTIF('Uygunsuzluk Takip'!AC:AC,'Dashboard Data'!R16) -> 7 | T16: =COUNTIFS('Uygunsuzluk Takip'!B:B,">="&Dashboard!$G$11,'Uygunsuzluk Takip'!B:B,"<="&Dashboard!$G$13,'Uygunsuzluk Takip'!AC:AC,'Dashboard Data'!R16) -> 2 | V16: =Data!C16 -> FİRMA ADI GİRİNİZ-15 | W16: =COUNTIF('Uygunsuzluk Takip'!C:C,'Dashboard Data'!V16) -> 13 | X16: =COUNTIFS('Uygunsuzluk Takip'!B:B,">="&Dashboard!$G$11,'Uygunsuzluk Takip'!B:B,"<="&Dashboard!$G$13,'Uygunsuzluk Takip'!C:C,'Dashboard Data'!V16) -> 5
I17: =Data!X$1 -> ALAN_SINIRLANDIRMA_UYGUNSUZLUKLARI | J17: =COUNTIF('Uygunsuzluk Takip'!L:L,'Dashboard Data'!I17)+COUNTIF('Uygunsuzluk Takip'!N:N,'Dashboard Data'!I17) -> 7 | K17: =COUNTIFS('Uygunsuzluk Takip'!B:B,">="&Dashboard!$G$11,'Uygunsuzluk Takip'!B:B,"<="&Dashboard!$G$13,'Uygunsuzluk Takip'!L:L,'Dashboard Data'!I17)+COUNTIFS('Uygunsuzluk Takip'!B:B,">="&Dashboard!$G$11,'Uygunsuzluk Takip'!B:B,"<="&Dashboard!$G$13,'Uygunsuzluk Takip'!N:N,'Dashboard Data'!I17) -> 3 | R17: =Data!G17 -> İŞ GÜVENLİĞİ UZMANI GİRİNİZ-16 | S17: =COUNTIF('Uygunsuzluk Takip'!AC:AC,'Dashboard Data'!R17) -> 7 | T17: =COUNTIFS('Uygunsuzluk Takip'!B:B,">="&Dashboard!$G$11,'Uygunsuzluk Takip'!B:B,"<="&Dashboard!$G$13,'Uygunsuzluk Takip'!AC:AC,'Dashboard Data'!R17) -> 3 | V17: =Data!C17 -> FİRMA ADI GİRİNİZ-16 | W17: =COUNTIF('Uygunsuzluk Takip'!C:C,'Dashboard Data'!V17) -> 13 | X17: =COUNTIFS('Uygunsuzluk Takip'!B:B,">="&Dashboard!$G$11,'Uygunsuzluk Takip'!B:B,"<="&Dashboard!$G$13,'Uygunsuzluk Takip'!C:C,'Dashboard Data'!V17) -> 5
I18: =Data!Y$1 -> UYARI_İKAZ_UYGUNSUZLUKLARI | J18: =COUNTIF('Uygunsuzluk Takip'!L:L,'Dashboard Data'!I18)+COUNTIF('Uygunsuzluk Takip'!N:N,'Dashboard Data'!I18) -> 7 | K18: =COUNTIFS('Uygunsuzluk Takip'!B:B,">="&Dashboard!$G$11,'Uygunsuzluk Takip'!B:B,"<="&Dashboard!$G$13,'Uygunsuzluk Takip'!L:L,'Dashboard Data'!I18)+COUNTIFS('Uygunsuzluk Takip'!B:B,">="&Dashboard!$G$11,'Uygunsuzluk Takip'!B:B,"<="&Dashboard!$G$13,'Uygunsuzluk Takip'!N:N,'Dashboard Data'!I18) -> 3 | R18: =Data!G18 -> İŞ GÜVENLİĞİ UZMANI GİRİNİZ-17 | S18: =COUNTIF('Uygunsuzluk Takip'!AC:AC,'Dashboard Data'!R18) -> 8 | T18: =COUNTIFS('Uygunsuzluk Takip'!B:B,">="&Dashboard!$G$11,'Uygunsuzluk Takip'!B:B,"<="&Dashboard!$G$13,'Uygunsuzluk Takip'!AC:AC,'Dashboard Data'!R18) -> 4 | V18: =Data!C18 -> FİRMA ADI GİRİNİZ-17 | W18: =COUNTIF('Uygunsuzluk Takip'!C:C,'Dashboard Data'!V18) -> 11 | X18: =COUNTIFS('Uygunsuzluk Takip'!B:B,">="&Dashboard!$G$11,'Uygunsuzluk Takip'!B:B,"<="&Dashboard!$G$13,'Uygunsuzluk Takip'!C:C,'Dashboard Data'!V18) -> 2
I19: =Data!Z$1 -> İSTİFLEME_TAŞIMA_UYGUNSUZLUKLARI | J19: =COUNTIF('Uygunsuzluk Takip'!L:L,'Dashboard Data'!I19)+COUNTIF('Uygunsuzluk Takip'!N:N,'Dashboard Data'!I19) -> 7 | K19: =COUNTIFS('Uygunsuzluk Takip'!B:B,">="&Dashboard!$G$11,'Uygunsuzluk Takip'!B:B,"<="&Dashboard!$G$13,'Uygunsuzluk Takip'!L:L,'Dashboard Data'!I19)+COUNTIFS('Uygunsuzluk Takip'!B:B,">="&Dashboard!$G$11,'Uygunsuzluk Takip'!B:B,"<="&Dashboard!$G$13,'Uygunsuzluk Takip'!N:N,'Dashboard Data'!I19) -> 3 | R19: =Data!G19 -> İŞ GÜVENLİĞİ UZMANI GİRİNİZ-18 | S19: =COUNTIF('Uygunsuzluk Takip'!AC:AC,'Dashboard Data'!R19) -> 7 | T19: =COUNTIFS('Uygunsuzluk Takip'!B:B,">="&Dashboard!$G$11,'Uygunsuzluk Takip'!B:B,"<="&Dashboard!$G$13,'Uygunsuzluk Takip'!AC:AC,'Dashboard Data'!R19) -> 3 | V19: =Data!C19 -> FİRMA ADI GİRİNİZ-18 | W19: =COUNTIF('Uygunsuzluk Takip'!C:C,'Dashboard Data'!V19) -> 9 | X19: =COUNTIFS('Uygunsuzluk Takip'!B:B,">="&Dashboard!$G$11,'Uygunsuzluk Takip'!B:B,"<="&Dashboard!$G$13,'Uygunsuzluk Takip'!C:C,'Dashboard Data'!V19) -> 2
I20: =Data!AA$1 -> HİJYEN_UYGUNSUZLUKLARI | J20: =COUNTIF('Uygunsuzluk Takip'!L:L,'Dashboard Data'!I20)+COUNTIF('Uygunsuzluk Takip'!N:N,'Dashboard Data'!I20) -> 7 | K20: =COUNTIFS('Uygunsuzluk Takip'!B:B,">="&Dashboard!$G$11,'Uygunsuzluk Takip'!B:B,"<="&Dashboard!$G$13,'Uygunsuzluk Takip'!L:L,'Dashboard Data'!I20)+COUNTIFS('Uygunsuzluk Takip'!B:B,">="&Dashboard!$G$11,'Uygunsuzluk Takip'!B:B,"<="&Dashboard!$G$13,'Uygunsuzluk Takip'!N:N,'Dashboard Data'!I20) -> 3 | R20: =Data!G20 -> İŞ GÜVENLİĞİ UZMANI GİRİNİZ-19 | S20: =COUNTIF('Uygunsuzluk Takip'!AC:AC,'Dashboard Data'!R20) -> 7 | T20: =COUNTIFS('Uygunsuzluk Takip'!B:B,">="&Dashboard!$G$11,'Uygunsuzluk Takip'!B:B,"<="&Dashboard!$G$13,'Uygunsuzluk Takip'!AC:AC,'Dashboard Data'!R20) -> 3 | V20: =Data!C20 -> FİRMA ADI GİRİNİZ-19 | W20: =COUNTIF('Uygunsuzluk Takip'!C:C,'Dashboard Data'!V20) -> 8 | X20: =COUNTIFS('Uygunsuzluk Takip'!B:B,">="&Dashboard!$G$11,'Uygunsuzluk Takip'!B:B,"<="&Dashboard!$G$13,'Uygunsuzluk Takip'!C:C,'Dashboard Data'!V20) -> 2
I21: =Data!AB$1 -> AYDINLATMA_UYGUNSUZLUKLARI | J21: =COUNTIF('Uygunsuzluk Takip'!L:L,'Dashboard Data'!I21)+COUNTIF('Uygunsuzluk Takip'!N:N,'Dashboard Data'!I21) -> 7 | K21: =COUNTIFS('Uygunsuzluk Takip'!B:B,">="&Dashboard!$G$11,'Uygunsuzluk Takip'!B:B,"<="&Dashboard!$G$13,'Uygunsuzluk Takip'!L:L,'Dashboard Data'!I21)+COUNTIFS('Uygunsuzluk Takip'!B:B,">="&Dashboard!$G$11,'Uygunsuzluk Takip'!B:B,"<="&Dashboard!$G$13,'Uygunsuzluk Takip'!N:N,'Dashboard Data'!I21) -> 3 | R21: =Data!G21 -> İŞ GÜVENLİĞİ UZMANI GİRİNİZ-20 | S21: =COUNTIF('Uygunsuzluk Takip'!AC:AC,'Dashboard Data'!R21) -> 7 | T21: =COUNTIFS('Uygunsuzluk Takip'!B:B,">="&Dashboard!$G$11,'Uygunsuzluk Takip'!B:B,"<="&Dashboard!$G$13,'Uygunsuzluk Takip'!AC:AC,'Dashboard Data'!R21) -> 3
I22: =Data!AC$1 -> SAĞLIK_UYGUNSUZLUKLARI | J22: =COUNTIF('Uygunsuzluk Takip'!L:L,'Dashboard Data'!I22)+COUNTIF('Uygunsuzluk Takip'!N:N,'Dashboard Data'!I22) -> 7 | K22: =COUNTIFS('Uygunsuzluk Takip'!B:B,">="&Dashboard!$G$11,'Uygunsuzluk Takip'!B:B,"<="&Dashboard!$G$13,'Uygunsuzluk Takip'!L:L,'Dashboard Data'!I22)+COUNTIFS('Uygunsuzluk Takip'!B:B,">="&Dashboard!$G$11,'Uygunsuzluk Takip'!B:B,"<="&Dashboard!$G$13,'Uygunsuzluk Takip'!N:N,'Dashboard Data'!I22) -> 3 | R22: =Data!G22 -> İŞ GÜVENLİĞİ UZMANI GİRİNİZ-21 | S22: =COUNTIF('Uygunsuzluk Takip'!AC:AC,'Dashboard Data'!R22) -> 7 | T22: =COUNTIFS('Uygunsuzluk Takip'!B:B,">="&Dashboard!$G$11,'Uygunsuzluk Takip'!B:B,"<="&Dashboard!$G$13,'Uygunsuzluk Takip'!AC:AC,'Dashboard Data'!R22) -> 3
I23: =Data!AD$1 -> GÖREV_YETKİ_DIŞINDA_ÇALIŞMA_PERSONEL_ÇALIŞTIRMA | J23: =COUNTIF('Uygunsuzluk Takip'!L:L,'Dashboard Data'!I23)+COUNTIF('Uygunsuzluk Takip'!N:N,'Dashboard Data'!I23) -> 7 | K23: =COUNTIFS('Uygunsuzluk Takip'!B:B,">="&Dashboard!$G$11,'Uygunsuzluk Takip'!B:B,"<="&Dashboard!$G$13,'Uygunsuzluk Takip'!L:L,'Dashboard Data'!I23)+COUNTIFS('Uygunsuzluk Takip'!B:B,">="&Dashboard!$G$11,'Uygunsuzluk Takip'!B:B,"<="&Dashboard!$G$13,'Uygunsuzluk Takip'!N:N,'Dashboard Data'!I23) -> 3 | R23: =Data!G23 -> İŞ GÜVENLİĞİ UZMANI GİRİNİZ-22 | S23: =COUNTIF('Uygunsuzluk Takip'!AC:AC,'Dashboard Data'!R23) -> 8 | T23: =COUNTIFS('Uygunsuzluk Takip'!B:B,">="&Dashboard!$G$11,'Uygunsuzluk Takip'!B:B,"<="&Dashboard!$G$13,'Uygunsuzluk Takip'!AC:AC,'Dashboard Data'!R23) -> 3
I24: =Data!AE$1 -> KİMYASAL_MADDE_UYGUNSUZLUKLARI | J24: =COUNTIF('Uygunsuzluk Takip'!L:L,'Dashboard Data'!I24)+COUNTIF('Uygunsuzluk Takip'!N:N,'Dashboard Data'!I24) -> 6 | K24: =COUNTIFS('Uygunsuzluk Takip'!B:B,">="&Dashboard!$G$11,'Uygunsuzluk Takip'!B:B,"<="&Dashboard!$G$13,'Uygunsuzluk Takip'!L:L,'Dashboard Data'!I24)+COUNTIFS('Uygunsuzluk Takip'!B:B,">="&Dashboard!$G$11,'Uygunsuzluk Takip'!B:B,"<="&Dashboard!$G$13,'Uygunsuzluk Takip'!N:N,'Dashboard Data'!I24) -> 2 | R24: =Data!G24 -> İŞ GÜVENLİĞİ UZMANI GİRİNİZ-23 | S24: =COUNTIF('Uygunsuzluk Takip'!AC:AC,'Dashboard Data'!R24) -> 7 | T24: =COUNTIFS('Uygunsuzluk Takip'!B:B,">="&Dashboard!$G$11,'Uygunsuzluk Takip'!B:B,"<="&Dashboard!$G$13,'Uygunsuzluk Takip'!AC:AC,'Dashboard Data'!R24) -> 2
I25: =Data!AF$1 -> DEPO_İSTİFLEME_UYGUNSUZLUKLARI | J25: =COUNTIF('Uygunsuzluk Takip'!L:L,'Dashboard Data'!I25)+COUNTIF('Uygunsuzluk Takip'!N:N,'Dashboard Data'!I25) -> 6 | K25: =COUNTIFS('Uygunsuzluk Takip'!B:B,">="&Dashboard!$G$11,'Uygunsuzluk Takip'!B:B,"<="&Dashboard!$G$13,'Uygunsuzluk Takip'!L:L,'Dashboard Data'!I25)+COUNTIFS('Uygunsuzluk Takip'!B:B,">="&Dashboard!$G$11,'Uygunsuzluk Takip'!B:B,"<="&Dashboard!$G$13,'Uygunsuzluk Takip'!N:N,'Dashboard Data'!I25) -> 2 | R25: =Data!G25 -> İŞ GÜVENLİĞİ UZMANI GİRİNİZ-24 | S25: =COUNTIF('Uygunsuzluk Takip'!AC:AC,'Dashboard Data'!R25) -> 7 | T25: =COUNTIFS('Uygunsuzluk Takip'!B:B,">="&Dashboard!$G$11,'Uygunsuzluk Takip'!B:B,"<="&Dashboard!$G$13,'Uygunsuzluk Takip'!AC:AC,'Dashboard Data'!R25) -> 2
I26: =Data!AG$1 -> TERMAL_KONFOR_ERGONOMİ_UYGUNSUZLUKLARI | J26: =COUNTIF('Uygunsuzluk Takip'!L:L,'Dashboard Data'!I26)+COUNTIF('Uygunsuzluk Takip'!N:N,'Dashboard Data'!I26) -> 6 | K26: =COUNTIFS('Uygunsuzluk Takip'!B:B,">="&Dashboard!$G$11,'Uygunsuzluk Takip'!B:B,"<="&Dashboard!$G$13,'Uygunsuzluk Takip'!L:L,'Dashboard Data'!I26)+COUNTIFS('Uygunsuzluk Takip'!B:B,">="&Dashboard!$G$11,'Uygunsuzluk Takip'!B:B,"<="&Dashboard!$G$13,'Uygunsuzluk Takip'!N:N,'Dashboard Data'!I26) -> 2 | R26: =Data!G26 -> İŞ GÜVENLİĞİ UZMANI GİRİNİZ-25 | S26: =COUNTIF('Uygunsuzluk Takip'!AC:AC,'Dashboard Data'!R26) -> 7 | T26: =COUNTIFS('Uygunsuzluk Takip'!B:B,">="&Dashboard!$G$11,'Uygunsuzluk Takip'!B:B,"<="&Dashboard!$G$13,'Uygunsuzluk Takip'!AC:AC,'Dashboard Data'!R26) -> 2
I27: =Data!AH$1 -> KİŞİSEL_NEDENLER | J27: =COUNTIF('Uygunsuzluk Takip'!L:L,'Dashboard Data'!I27)+COUNTIF('Uygunsuzluk Takip'!N:N,'Dashboard Data'!I27) -> 6 | K27: =COUNTIFS('Uygunsuzluk Takip'!B:B,">="&Dashboard!$G$11,'Uygunsuzluk Takip'!B:B,"<="&Dashboard!$G$13,'Uygunsuzluk Takip'!L:L,'Dashboard Data'!I27)+COUNTIFS('Uygunsuzluk Takip'!B:B,">="&Dashboard!$G$11,'Uygunsuzluk Takip'!B:B,"<="&Dashboard!$G$13,'Uygunsuzluk Takip'!N:N,'Dashboard Data'!I27) -> 2 | R27: =Data!G27 -> İŞ GÜVENLİĞİ UZMANI GİRİNİZ-26 | S27: =COUNTIF('Uygunsuzluk Takip'!AC:AC,'Dashboard Data'!R27) -> 6 | T27: =COUNTIFS('Uygunsuzluk Takip'!B:B,">="&Dashboard!$G$11,'Uygunsuzluk Takip'!B:B,"<="&Dashboard!$G$13,'Uygunsuzluk Takip'!AC:AC,'Dashboard Data'!R27) -> 1
I28: =Data!AI$1 -> SU_GIDA_VB._UYGUNSUZLUKLARI | J28: =COUNTIF('Uygunsuzluk Takip'!L:L,'Dashboard Data'!I28)+COUNTIF('Uygunsuzluk Takip'!N:N,'Dashboard Data'!I28) -> 6 | K28: =COUNTIFS('Uygunsuzluk Takip'!B:B,">="&Dashboard!$G$11,'Uygunsuzluk Takip'!B:B,"<="&Dashboard!$G$13,'Uygunsuzluk Takip'!L:L,'Dashboard Data'!I28)+COUNTIFS('Uygunsuzluk Takip'!B:B,">="&Dashboard!$G$11,'Uygunsuzluk Takip'!B:B,"<="&Dashboard!$G$13,'Uygunsuzluk Takip'!N:N,'Dashboard Data'!I28) -> 2 | R28: =Data!G28 -> İŞ GÜVENLİĞİ UZMANI GİRİNİZ-27 | S28: =COUNTIF('Uygunsuzluk Takip'!AC:AC,'Dashboard Data'!R28) -> 6 | T28: =COUNTIFS('Uygunsuzluk Takip'!B:B,">="&Dashboard!$G$11,'Uygunsuzluk Takip'!B:B,"<="&Dashboard!$G$13,'Uygunsuzluk Takip'!AC:AC,'Dashboard Data'!R28) -> 2
R29: =Data!G29 -> İŞ GÜVENLİĞİ UZMANI GİRİNİZ-28 | S29: =COUNTIF('Uygunsuzluk Takip'!AC:AC,'Dashboard Data'!R29) -> 6 | T29: =COUNTIFS('Uygunsuzluk Takip'!B:B,">="&Dashboard!$G$11,'Uygunsuzluk Takip'!B:B,"<="&Dashboard!$G$13,'Uygunsuzluk Takip'!AC:AC,'Dashboard Data'!R29) -> 2
R30: =Data!G30 -> İŞ GÜVENLİĞİ UZMANI GİRİNİZ-29 | S30: =COUNTIF('Uygunsuzluk Takip'!AC:AC,'Dashboard Data'!R30) -> 4 | T30: =COUNTIFS('Uygunsuzluk Takip'!B:B,">="&Dashboard!$G$11,'Uygunsuzluk Takip'!B:B,"<="&Dashboard!$G$13,'Uygunsuzluk Takip'!AC:AC,'Dashboard Data'!R30) -> 1

Sheet Uygunsuzluk Takip
A1: UYGUNSUZLUK TAKİP SİSTEMİ
A2: UYGUNSUZLUK NO | B2: TARİH | C2: FİRMA | D2: UYGUNSUZLUK YAZILAN PERSONEL AD SOYAD | E2: UYGUNSUZLUK YAZILAN PERSONEL GÖREV | F2: UYGUNSUZLUK TESPİT EDİLEN BÖLGE | G2: LOKASYON - MAHAL | H2: UYGUNSUZLUK KAYNAĞI | I2: UYGUNSUZLUK AÇIKLAMASI | J2: UYGUNSUZLUK İÇİN ALINAN/ALINACAK AKSİYONLAR | K2: RİSK SEVİYESİ | L2: UYGUNSULUK NEDENİ-1 | M2: UYGUNSUZLUK ALT NEDEN-1 | N2: UYGUNSULUK NEDENİ-2 | O2: UYGUNSUZLUK ALT NEDEN-2 | P2: YAZILI UYARI TALEP EDİLEN ÇALIŞAN SAYISI | Q2: EĞİTİM TALEP EDİLEN PERSONEL SAYISI | R2: YEMİYE KESİNTİSİ TALEP EDİLEN PERSONEL SAYISI | S2: KESİLEN YEVMİYE MİKTARI | T2: CEZA MİKTARI (ALTİŞVEREN) | U2: SAHADAN MEN EDİLEN ÇALIŞAN SAYISI | V2: İŞ DURDURMA | W2: İŞ AKDİ FESHİ TALEP EDİLEN PERSONEL SAYISI | X2: TERMİN TARİHİ | Y2: KAPANMA TARİHİ | Z2: KAPANMA DURUMU | AA2: AKSİYON SORUMLUSU | AB2: UYGUNSUZLUĞUN AKSİYON SORUMLUSUNA İLETİLDİĞİ TARİHİ | AC2: UYGUNSUZLUK FORMUNU HAZIRLAYAN İŞ GÜVENLİĞİ UZMANI | AD2: NOTLAR
A3: UYG_NO_01 | B3: 45292 | C3: FİRMA ADI GİRİNİZ-1 | D3: AL**** SE**** | E3: ÇAYCI | F3: UYGUNSUZLUK BÖLGESİ GİRİNİZ-1 | G3: LOKASYON UYG_NO_01 UYGUNSUZLUK BÖLGESİ GİRİNİZ-1 | H3: SAHA DENETİMİ | I3: UYGUNSUZLUK AÇIKLAMASI.....UYG_NO_01 | J3: UYG_NO_01 ALINAN AKSİYON YAZILACAK | K3: DÜŞÜK | L3: TERTİP_DÜZEN_EKSİKLİĞİ | M3: ACİL ÇIKIŞLARIN ÖNÜ KAPATILMIŞ OLMASI | N3: ELEKTRİK_UYGUNSUZLUKLARI | O3: ELEKTRİK EKİPMANLARININ YANICI MALZEMELERE ÇOK YAKIN OLMASI | P3: 1 | Q3: 2 | R3: 1 | S3: 100 | X3: 45299 | Y3: 45299 | Z3: KAPALI | AA3: İLGİLİ SORUMLUNUN ADI SOYADI | AB3: 45294 | AC3: İŞ GÜVENLİĞİ UZMANI GİRİNİZ-1
A4: UYG_NO_02 | B4: 45295 | C4: FİRMA ADI GİRİNİZ-2 | D4: BC*** TA**** | E4: BOYACI | F4: UYGUNSUZLUK BÖLGESİ GİRİNİZ-2 | G4: LOKASYON UYG_NO_02 UYGUNSUZLUK BÖLGESİ GİRİNİZ-2 | H4: SAHA DENETİMİ | I4: UYGUNSUZLUK AÇIKLAMASI.....UYG_NO_02 | J4: UYG_NO_02 ALINAN AKSİYON YAZILACAK | K4: ORTA | L4: KKD_UYGUNSUZLUKLARI | M4: BEDENE UYGUN OLMAYAN (ÇOK BÜYÜK/KÜÇÜK) KKD KULLANIMI | N4: YÜKSEKTE_ÇALIŞMA_UYGUNSUZLUKLARI | O4: DÜŞMEYE KARŞI KORUYUCU SİSTEMLERİN (HALAT, LANYARD, ANKRAJ) EKSİKLİĞİ | P4: 2 | Q4: 2 | R4: 1 | S4: 100 | X4: 45302 | Y4: 45302 | Z4: KAPALI | AA4: İLGİLİ SORUMLUNUN ADI SOYADI | AB4: 45297 | AC4: İŞ GÜVENLİĞİ UZMANI GİRİNİZ-2
A5: UYG_NO_03 | B5: 45296 | C5: FİRMA ADI GİRİNİZ-3 | D5: AL**** SE**** | E5: TAMİRCİ | F5: UYGUNSUZLUK BÖLGESİ GİRİNİZ-3 | G5: LOKASYON UYG_NO_03 UYGUNSUZLUK BÖLGESİ GİRİNİZ-3 | H5: SAHA DENETİMİ | I5: UYGUNSUZLUK AÇIKLAMASI.....UYG_NO_03 | J5: UYG_NO_03 ALINAN AKSİYON YAZILACAK | K5: YÜKSEK | L5: ELEKTRİK_UYGUNSUZLUKLARI | M5: ELEKTRİK ARIZASI DURUMUNDA ACİL KAPATMA TALİMATLARININ BİLİNMEMESİ | N5: ELEKTRİK_UYGUNSUZLUKLARI | O5: ELEKTRİK İŞLERİNİ YETKİSİZ PERSONELİN YAPMASI | P5: 3 | Q5: 2 | R5: 1 | S5: 100 | W5: 2 | X5: 45303 | Y5: 45303 | Z5: KAPALI | AA5: İLGİLİ SORUMLUNUN ADI SOYADI | AB5: 45298 | AC5: İŞ GÜVENLİĞİ UZMANI GİRİNİZ-3
A6: UYG_NO_04 | B6: 45297 | C6: FİRMA ADI GİRİNİZ-4 | D6: BL*** TA**** | E6: OFİS PERSONELİ | F6: UYGUNSUZLUK BÖLGESİ GİRİNİZ-4 | G6: LOKASYON UYG_NO_04 UYGUNSUZLUK BÖLGESİ GİRİNİZ-4 | H6: SAHA DENETİMİ | I6: UYGUNSUZLUK AÇIKLAMASI.....UYG_NO_04 | J6: UYG_NO_04 ALINAN AKSİYON YAZILACAK | K6: YÜKSEK | L6: KALDIMA_OPERASYONU_UYGUNSUZLUKLARI | M6: AYDINLATMANIN YETERSİZ OLMASI | N6: ELEKTRİK_UYGUNSUZLUKLARI | O6: ELEKTRİK ARIZASI DURUMUNDA ACİL KAPATMA TALİMATLARININ BİLİNMEMESİ | P6: 1 | Q6: 2 | T6: 500 | U6: 1 | V6: VAR | W6: 1 | X6: 45304 | Y6: 45304 | Z6: KAPALI | AA6: İLGİLİ SORUMLUNUN ADI SOYADI | AB6: 45299 | AC6: İŞ GÜVENLİĞİ UZMANI GİRİNİZ-4
A7: UYG_NO_05 | B7: 45306 | C7: FİRMA ADI GİRİNİZ-5 | D7: KL**** SE**** | E7: ELEKTRİKÇİ | F7: UYGUNSUZLUK BÖLGESİ GİRİNİZ-5 | G7: LOKASYON UYG_NO_05 UYGUNSUZLUK BÖLGESİ GİRİNİZ-5 | H7: SAHA DENETİMİ | I7: UYGUNSUZLUK AÇIKLAMASI.....UYG_NO_05 | J7: UYG_NO_05 ALINAN AKSİYON YAZILACAK | K7: DÜŞÜK | L7: İSKELE_UYGUNSUZLUKLARI | M7: DENGELEYİCİ TAKOZ VE ANKRAJLARIN EKSİK OLMASI | P7: 1 | Q7: 3 | R7: 1 | S7: 100 | X7: 45313 | Y7: 45313 | Z7: KAPALI | AA7: İLGİLİ SORUMLUNUN ADI SOYADI | AB7: 45308 | AC7: İŞ GÜVENLİĞİ UZMANI GİRİNİZ-5
A8: UYG_NO_06 | B8: 45309 | C8: FİRMA ADI GİRİNİZ-6 | D8: BC*** TS**** | E8: TEMİZLİK PERSONELİ | F8: UYGUNSUZLUK BÖLGESİ GİRİNİZ-6 | G8: LOKASYON UYG_NO_06 UYGUNSUZLUK BÖLGESİ GİRİNİZ-6 | H8: SAHA DENETİMİ | I8: UYGUNSUZLUK AÇIKLAMASI.....UYG_NO_06 | J8: UYG_NO_06 ALINAN AKSİYON YAZILACAK | K8: ORTA | L8: YÜKSEKTE_ÇALIŞMA_UYGUNSUZLUKLARI | M8: ÇALIŞMA ALANININ ALTINDAKİ BÖLGENİN GÜVENLİĞİNİN ALINMAMASI | P8: 1 | Q8: 3 | T8: 750 | U8: 2 | V8: VAR | X8: 45316 | Y8: 45316 | Z8: KAPALI | AA8: İLGİLİ SORUMLUNUN ADI SOYADI | AB8: 45311 | AC8: İŞ GÜVENLİĞİ UZMANI GİRİNİZ-6
A9: UYG_NO_07 | B9: 45311 | C9: FİRMA ADI GİRİNİZ-7 | D9: KL**** SE**** | E9: SATIŞ PERSONELİ | F9: UYGUNSUZLUK BÖLGESİ GİRİNİZ-7 | G9: LOKASYON UYG_NO_07 UYGUNSUZLUK BÖLGESİ GİRİNİZ-7 | H9: SAHA DENETİMİ | I9: UYGUNSUZLUK AÇIKLAMASI.....UYG_NO_07 | J9: UYG_NO_07 ALINAN AKSİYON YAZILACAK | K9: YÜKSEK | L9: TALİMAT_PROSEDÜRLERE_UYMAMA | M9: EKİPMAN DEĞİŞİKLİĞİNE RAĞMEN PROSEDÜRÜN GÜNCELLENMEMESİ | P9: 1 | Q9: 3 | X9: 45318 | Y9: 45318 | Z9: KAPALI | AA9: İLGİLİ SORUMLUNUN ADI SOYADI | AB9: 45313 | AC9: İŞ GÜVENLİĞİ UZMANI GİRİNİZ-7
A10: UYG_NO_08 | B10: 45316 | C10: FİRMA ADI GİRİNİZ-8 | D10: BC*** TS**** | E10: GÜVENLİK GÖREVLİSİ | F10: UYGUNSUZLUK BÖLGESİ GİRİNİZ-8 | G10: LOKASYON UYG_NO_08 UYGUNSUZLUK BÖLGESİ GİRİNİZ-8 | H10: SAHA DENETİMİ | I10: UYGUNSUZLUK AÇIKLAMASI.....UYG_NO_08 | J10: UYG_NO_08 ALINAN AKSİYON YAZILACAK | K10: ÇOK YÜKSEK | L10: ARAÇ_MAKİNE_EKİPMAN_UYGUNSUZLUKLARI | M10: ARIZALANAN EKİPMANA ACİL MÜDAHALE YOLLARININ ENGELLENMİŞ OLMASI | P10: 2 | Q10: 1 | R10: 1 | S10: 100 | X10: 45323 | Y10: 45323 | Z10: KAPALI | AA10: İLGİLİ SORUMLUNUN ADI SOYADI | AB10: 45318 | AC10: İŞ GÜVENLİĞİ UZMANI GİRİNİZ-8
A11: UYG_NO_09 | B11: 45321 | C11: FİRMA ADI GİRİNİZ-9 | D11: KL**** SE**** | E11: MUHASEBECİ | F11: UYGUNSUZLUK BÖLGESİ GİRİNİZ-9 | G11: LOKASYON UYG_NO_09 UYGUNSUZLUK BÖLGESİ GİRİNİZ-9 | H11: SAHA DENETİMİ | I11: UYGUNSUZLUK AÇIKLAMASI.....UYG_NO_09 | J11: UYG_NO_09 ALINAN AKSİYON YAZILACAK | K11: DÜŞÜK | L11: TRAFİK_KURALLARINA_UYMAMA | M11: ARAÇLARIN DÜZENLİ BAKIM VE MUAYENESİNİN YAPILMAMASI | P11: 2 | Q11: 1 | R11: 1 | S11: 100 | X11: 45328 | Y11: 45328 | Z11: KAPALI | AA11: İLGİLİ SORUMLUNUN ADI SOYADI | AB11: 45323 | AC11: İŞ GÜVENLİĞİ UZMANI GİRİNİZ-9
A12: UYG_NO_10 | B12: 45322 | C12: FİRMA ADI GİRİNİZ-10 | D12: BC*** TS**** | E12: AMİR | F12: UYGUNSUZLUK BÖLGESİ GİRİNİZ-10 | G12: LOKASYON UYG_NO_10 UYGUNSUZLUK BÖLGESİ GİRİNİZ-10 | H12: SAHA DENETİMİ | I12: UYGUNSUZLUK AÇIKLAMASI.....UYG_NO_10 | J12: UYG_NO_10 ALINAN AKSİYON YAZILACAK | K12: ORTA | L12: SABİTLENMEYEN_DÜŞME_İHTİMALİ_BULUNAN_MALZEME_ARAÇ_EKİPMAN | M12: ÇALIŞANLARIN BU KONUDA BİLGİLENDİRİLMEMESİ VE FARKINDALIK EKSİKLİĞİ | P12: 2 | Q12: 1 | R12: 1 | S12: 100 | X12: 45329 | Y12: 45329 | Z12: KAPALI | AA12: İLGİLİ SORUMLUNUN ADI SOYADI | AB12: 45324 | AC12: İŞ GÜVENLİĞİ UZMANI GİRİNİZ-10
A13: UYG_NO_11 | B13: 45329 | C13: FİRMA ADI GİRİNİZ-11 | D13: KL**** SE**** | E13: ŞEF | F13: UYGUNSUZLUK BÖLGESİ GİRİNİZ-11 | G13: LOKASYON UYG_NO_11 UYGUNSUZLUK BÖLGESİ GİRİNİZ-11 | H13: SAHA DENETİMİ | I13: UYGUNSUZLUK AÇIKLAMASI.....UYG_NO_11 | J13: UYG_NO_11 ALINAN AKSİYON YAZILACAK | K13: YÜKSEK | L13: ISLAK_KAYGAN_ZEMİN | M13: ÇALIŞANLARIN KAYMAZ TABANLI İŞ AYAKKABISI KULLANMAMASI | P13: 3 | Q13: 1 | V13: VAR | X13: 45336 | Y13: 45336 | Z13: KAPALI | AA13: İLGİLİ SORUMLUNUN ADI SOYADI | AB13: 45331 | AC13: İŞ GÜVENLİĞİ UZMANI GİRİNİZ-11
A14: UYG_NO_12 | B14: 45331 | C14: FİRMA ADI GİRİNİZ-12 | D14: BC*** TS**** | E14: FİNANS UZMANI | F14: UYGUNSUZLUK BÖLGESİ GİRİNİZ-12 | G14: LOKASYON UYG_NO_12 UYGUNSUZLUK BÖLGESİ GİRİNİZ-12 | H14: SAHA DENETİMİ | I14: UYGUNSUZLUK AÇIKLAMASI.....UYG_NO_12 | J14: UYG_NO_12 ALINAN AKSİYON YAZILACAK | K14: YÜKSEK | L14: KAPALI_KISITLI_ALAN_UYGUNSUZLUKLARI | M14: ÇALIŞMA PROSEDÜRLERİNİN OLMAMASI VEYA SAHADA BİLİNMEMESİ | P14: 3 | Q14: 1 | R14: 1 | S14: 100 | X14: 45338 | Y14: 45338 | Z14: KAPALI | AA14: İLGİLİ SORUMLUNUN ADI SOYADI | AB14: 45333 | AC14: İŞ GÜVENLİĞİ UZMANI GİRİNİZ-12
A15: UYG_NO_13 | B15: 45339 | C15: FİRMA ADI GİRİNİZ-13 | D15: KL**** SE**** | E15: ÇAYCI | F15: UYGUNSUZLUK BÖLGESİ GİRİNİZ-13 | G15: LOKASYON UYG_NO_13 UYGUNSUZLUK BÖLGESİ GİRİNİZ-13 | H15: SAHA DENETİMİ | I15: UYGUNSUZLUK AÇIKLAMASI.....UYG_NO_13 | J15: UYG_NO_13 ALINAN AKSİYON YAZILACAK | K15: DÜŞÜK | L15: İŞ_İZNİ_UYGUNSUZLUKLARI | M15: ÇALIŞANLARIN İŞ İZNİ SÜRECİ HAKKINDA EĞİTİLMEMESİ | P15: 1 | Q15: 1 | X15: 45346 | Y15: 45346 | Z15: KAPALI | AA15: İLGİLİ SORUMLUNUN ADI SOYADI | AB15: 45341 | AC15: İŞ GÜVENLİĞİ UZMANI GİRİNİZ-13
A16: UYG_NO_14 | B16: 45341 | C16: FİRMA ADI GİRİNİZ-14 | D16: BC*** TS**** | E16: BOYACI | F16: UYGUNSUZLUK BÖLGESİ GİRİNİZ-14 | G16: LOKASYON UYG_NO_14 UYGUNSUZLUK BÖLGESİ GİRİNİZ-14 | H16: SAHA DENETİMİ | I16: UYGUNSUZLUK AÇIKLAMASI.....UYG_NO_14 | J16: UYG_NO_14 ALINAN AKSİYON YAZILACAK | K16: ORTA | L16: ACİL_DURUM_UYGUNSUZLUĞU | M16: ACİL ÇIKIŞ İŞARETLERİNİN VE AYDINLATMASININ ÇALIŞMAMASI | P16: 1 | Q16: 1 | T16: 1000 | U16: 2 | V16: VAR | X16: 45348 | Y16: 45348 | Z16: KAPALI | AA16: İLGİLİ SORUMLUNUN ADI SOYADI | AB16: 45343 | AC16: İŞ GÜVENLİĞİ UZMANI GİRİNİZ-14
A17: UYG_NO_15 | B17: 45349 | C17: FİRMA ADI GİRİNİZ-15 | D17: KL**** SE**** | E17: TAMİRCİ | F17: UYGUNSUZLUK BÖLGESİ GİRİNİZ-15 | G17: LOKASYON UYG_NO_15 UYGUNSUZLUK BÖLGESİ GİRİNİZ-15 | H17: SAHA DENETİMİ | I17: UYGUNSUZLUK AÇIKLAMASI.....UYG_NO_15 | J17: UYG_NO_15 ALINAN AKSİYON YAZILACAK | K17: YÜKSEK | L17: İMALAT_MÜHENDİSLİK_YÖNETİM_UYGUNSUZLUKLARI | M17: ÇAPRAZ İLETİŞİM VE KOORDİNASYON EKSİKLİKLERİ | P17: 1 | Q17: 2 | R17: 1 | S17: 100 | X17: 45356 | Y17: 45356 | Z17: KAPALI | AA17: İLGİLİ SORUMLUNUN ADI SOYADI | AB17: 45351 | AC17: İŞ GÜVENLİĞİ UZMANI GİRİNİZ-15
A18: UYG_NO_16 | B18: 45352 | C18: FİRMA ADI GİRİNİZ-16 | D18: BC*** TE**** | E18: OFİS PERSONELİ | F18: UYGUNSUZLUK BÖLGESİ GİRİNİZ-16 | G18: LOKASYON UYG_NO_16 UYGUNSUZLUK BÖLGESİ GİRİNİZ-16 | H18: SAHA DENETİMİ | I18: UYGUNSUZLUK AÇIKLAMASI.....UYG_NO_16 | J18: UYG_NO_16 ALINAN AKSİYON YAZILACAK | K18: ÇOK YÜKSEK | L18: ALAN_SINIRLANDIRMA_UYGUNSUZLUKLARI | M18: ALAN SINIRLARINI BELİRTEN LEVHA VEYA İKAZLARIN OLMAMASI | P18: 1 | Q18: 2 | W18: 1 | X18: 45359 | Y18: 45359 | Z18: KAPALI | AA18: İLGİLİ SORUMLUNUN ADI SOYADI | AB18: 45354 | AC18: İŞ GÜVENLİĞİ UZMANI GİRİNİZ-16
A19: UYG_NO_17 | B19: 45358 | C19: FİRMA ADI GİRİNİZ-17 | D19: KL**** SE**** | E19: ELEKTRİKÇİ | F19: UYGUNSUZLUK BÖLGESİ GİRİNİZ-17 | G19: LOKASYON UYG_NO_17 UYGUNSUZLUK BÖLGESİ GİRİNİZ-17 | H19: DIŞ TETKİK | I19: UYGUNSUZLUK AÇIKLAMASI.....UYG_NO_17 | J19: UYG_NO_17 ALINAN AKSİYON YAZILACAK | K19: DÜŞÜK | L19: UYARI_İKAZ_UYGUNSUZLUKLARI | M19: ÇALIŞANLARIN UYARI LEVHALARININ ANLAMINI BİLMEMESİ | P19: 1 | Q19: 2 | X19: 45365 | Y19: 45365 | Z19: KAPALI | AA19: İLGİLİ SORUMLUNUN ADI SOYADI | AB19: 45360 | AC19: İŞ GÜVENLİĞİ UZMANI GİRİNİZ-17
A20: UYG_NO_18 | B20: 45366 | C20: FİRMA ADI GİRİNİZ-18 | D20: BC*** TE**** | E20: TEMİZLİK PERSONELİ | F20: UYGUNSUZLUK BÖLGESİ GİRİNİZ-18 | G20: LOKASYON UYG_NO_18 UYGUNSUZLUK BÖLGESİ GİRİNİZ-18 | H20: DIŞ TETKİK | I20: UYGUNSUZLUK AÇIKLAMASI.....UYG_NO_18 | J20: UYG_NO_18 ALINAN AKSİYON YAZILACAK | K20: ORTA | L20: İSTİFLEME_TAŞIMA_UYGUNSUZLUKLARI | M20: EHLİYETSİZ PERSONELİN FORKLİFT KULLANMASI | P20: 1 | Q20: 2 | X20: 45373 | Y20: 45373 | Z20: KAPALI | AA20: İLGİLİ SORUMLUNUN ADI SOYADI | AB20: 45368 | AC20: İŞ GÜVENLİĞİ UZMANI GİRİNİZ-18
A21: UYG_NO_19 | B21: 45374 | C21: FİRMA ADI GİRİNİZ-19 | D21: KL**** SE**** | E21: SATIŞ PERSONELİ | F21: UYGUNSUZLUK BÖLGESİ GİRİNİZ-19 | G21: LOKASYON UYG_NO_19 UYGUNSUZLUK BÖLGESİ GİRİNİZ-19 | H21: DIŞ TETKİK | I21: UYGUNSUZLUK AÇIKLAMASI.....UYG_NO_19 | J21: UYG_NO_19 ALINAN AKSİYON YAZILACAK | K21: YÜKSEK | L21: HİJYEN_UYGUNSUZLUKLARI | M21: ÇALIŞANLARA HİJYEN EĞİTİMİ VERİLMEMESİ VEYA TEKRARLANMAMASI | P21: 1 | Q21: 2 | X21: 45381 | Y21: 45383 | Z21: KAPALI | AA21: İLGİLİ SORUMLUNUN ADI SOYADI | AB21: 45376 | AC21: İŞ GÜVENLİĞİ UZMANI GİRİNİZ-19
A22: UYG_NO_20 | B22: 45382 | C22: FİRMA ADI GİRİNİZ-4 | D22: BC*** TE**** | E22: GÜVENLİK GÖREVLİSİ | F22: UYGUNSUZLUK BÖLGESİ GİRİNİZ-20 | G22: LOKASYON UYG_NO_20 UYGUNSUZLUK BÖLGESİ GİRİNİZ-20 | H22: DIŞ TETKİK | I22: UYGUNSUZLUK AÇIKLAMASI.....UYG_NO_20 | J22: UYG_NO_20 ALINAN AKSİYON YAZILACAK | K22: YÜKSEK | L22: AYDINLATMA_UYGUNSUZLUKLARI | M22: ACİL DURUM AYDINLATMALARININ PERİYODİK TESTLERİNİN YAPILMAMASI | P22: 1 | Q22: 2 | U22: 2 | X22: 45389 | Y22: 45391 | Z22: KAPALI | AA22: İLGİLİ SORUMLUNUN ADI SOYADI | AB22: 45384 | AC22: İŞ GÜVENLİĞİ UZMANI GİRİNİZ-20
A23: UYG_NO_21 | B23: 45390 | C23: FİRMA ADI GİRİNİZ-5 | D23: KL**** SE**** | E23: MUHASEBECİ | F23: UYGUNSUZLUK BÖLGESİ GİRİNİZ-21 | G23: LOKASYON UYG_NO_21 UYGUNSUZLUK BÖLGESİ GİRİNİZ-21 | H23: DIŞ TETKİK | I23: UYGUNSUZLUK AÇIKLAMASI.....UYG_NO_21 | J23: UYG_NO_21 ALINAN AKSİYON YAZILACAK | K23: DÜŞÜK | L23: SAĞLIK_UYGUNSUZLUKLARI | M23: ÇALIŞANLARA BULAŞICI HASTALIKLAR, HİJYEN, ERGONOMİ VB. KONULARDA EĞİTİM VERİLMEMESİ | P23: 2 | Q23: 2 | R23: 1 | S23: 100 | X23: 45397 | Y23: 45399 | Z23: KAPALI | AA23: İLGİLİ SORUMLUNUN ADI SOYADI | AB23: 45392 | AC23: İŞ GÜVENLİĞİ UZMANI GİRİNİZ-21
A24: UYG_NO_22 | B24: 45398 | C24: FİRMA ADI GİRİNİZ-6 | D24: BC*** TE**** | E24: AMİR | F24: UYGUNSUZLUK BÖLGESİ GİRİNİZ-22 | G24: LOKASYON UYG_NO_22 UYGUNSUZLUK BÖLGESİ GİRİNİZ-22 | H24: DIŞ TETKİK | I24: UYGUNSUZLUK AÇIKLAMASI.....UYG_NO_22 | J24: UYG_NO_22 ALINAN AKSİYON YAZILACAK | K24: ORTA | L24: GÖREV_YETKİ_DIŞINDA_ÇALIŞMA_PERSONEL_ÇALIŞTIRMA | M24: ACİL İŞLERDE GEÇİCİ ÇÖZÜMLERE BAŞVURULMASI (ÖRNEĞİN: "KİM VARSA O YAPSIN") | P24: 2 | Q24: 2 | R24: 1 | S24: 100 | X24: 45405 | Y24: 45407 | Z24: KAPALI | AA24: İLGİLİ SORUMLUNUN ADI SOYADI | AB24: 45400 | AC24: İŞ GÜVENLİĞİ UZMANI GİRİNİZ-22
A25: UYG_NO_23 | B25: 45406 | C25: FİRMA ADI GİRİNİZ-7 | D25: KL**** SE**** | E25: ŞEF | F25: UYGUNSUZLUK BÖLGESİ GİRİNİZ-23 | G25: LOKASYON UYG_NO_23 UYGUNSUZLUK BÖLGESİ GİRİNİZ-23 | H25: DIŞ TETKİK | I25: UYGUNSUZLUK AÇIKLAMASI.....UYG_NO_23 | J25: UYG_NO_23 ALINAN AKSİYON YAZILACAK | K25: YÜKSEK | L25: KİMYASAL_MADDE_UYGUNSUZLUKLARI | M25: ETİKETİN SİLİNMİŞ, YIPRANMIŞ VEYA ANLAŞILMAZ OLMASI | P25: 2 | Q25: 2 | R25: 1 | S25: 100 | X25: 45413 | Y25: 45415 | Z25: KAPALI | AA25: İLGİLİ SORUMLUNUN ADI SOYADI | AB25: 45408 | AC25: İŞ GÜVENLİĞİ UZMANI GİRİNİZ-23
A26: UYG_NO_24 | B26: 45407 | C26: FİRMA ADI GİRİNİZ-8 | D26: BC*** TE**** | E26: FİNANS UZMANI | F26: UYGUNSUZLUK BÖLGESİ GİRİNİZ-24 | G26: LOKASYON UYG_NO_24 UYGUNSUZLUK BÖLGESİ GİRİNİZ-24 | H26: İÇ TETKİK | I26: UYGUNSUZLUK AÇIKLAMASI.....UYG_NO_24 | J26: UYG_NO_24 ALINAN AKSİYON YAZILACAK | K26: ÇOK YÜKSEK | L26: DEPO_İSTİFLEME_UYGUNSUZLUKLARI | M26: DEPO DÜZENİNE İLİŞKİN İŞARETLEME VE ÇİZGİ UYGULAMALARININ EKSİKLİĞİ | P26: 2 | Q26: 2 | R26: 1 | S26: 100 | X26: 45414 | Y26: 45416 | Z26: KAPALI | AA26: İLGİLİ SORUMLUNUN ADI SOYADI | AB26: 45409 | AC26: İŞ GÜVENLİĞİ UZMANI GİRİNİZ-24
A27: UYG_NO_25 | B27: 45408 | C27: FİRMA ADI GİRİNİZ-9 | D27: KL**** SE**** | E27: FİNANS UZMANI | F27: UYGUNSUZLUK BÖLGESİ GİRİNİZ-25 | G27: LOKASYON UYG_NO_25 UYGUNSUZLUK BÖLGESİ GİRİNİZ-25 | H27: İÇ TETKİK | I27: UYGUNSUZLUK AÇIKLAMASI.....UYG_NO_25 | J27: UYG_NO_25 ALINAN AKSİYON YAZILACAK | K27: DÜŞÜK | L27: TERMAL_KONFOR_ERGONOMİ_UYGUNSUZLUKLARI | M27: ÇALIŞMA ALANLARININ DAR VEYA UYGUNSUZ DÜZENLENMİŞ OLMASI | P27: 1 | Q27: 2 | R27: 1 | S27: 100 | X27: 45415 | Y27: 45417 | Z27: KAPALI | AA27: İLGİLİ SORUMLUNUN ADI SOYADI | AB27: 45410 | AC27: İŞ GÜVENLİĞİ UZMANI GİRİNİZ-25
A28: UYG_NO_26 | B28: 45409 | C28: FİRMA ADI GİRİNİZ-10 | D28: BC*** TE**** | E28: TAMİRCİ | F28: UYGUNSUZLUK BÖLGESİ GİRİNİZ-26 | G28: LOKASYON UYG_NO_26 UYGUNSUZLUK BÖLGESİ GİRİNİZ-26 | H28: İÇ TETKİK | I28: UYGUNSUZLUK AÇIKLAMASI.....UYG_NO_26 | J28: UYG_NO_26 ALINAN AKSİYON YAZILACAK | K28: ORTA | L28: KİŞİSEL_NEDENLER | M28: DİKKAT GEREKTİREN İŞLERDE ACELECİ DAVRANMAK | P28: 1 | Q28: 2 | X28: 45416 | Y28: 45418 | Z28: KAPALI | AA28: İLGİLİ SORUMLUNUN ADI SOYADI | AB28: 45411 | AC28: İŞ GÜVENLİĞİ UZMANI GİRİNİZ-26
A29: UYG_NO_27 | B29: 45410 | C29: FİRMA ADI GİRİNİZ-11 | D29: KL**** SE**** | E29: OFİS PERSONELİ | F29: UYGUNSUZLUK BÖLGESİ GİRİNİZ-27 | G29: LOKASYON UYG_NO_27 UYGUNSUZLUK BÖLGESİ GİRİNİZ-27 | H29: İÇ TETKİK | I29: UYGUNSUZLUK AÇIKLAMASI.....UYG_NO_27 | J29: UYG_NO_27 ALINAN AKSİYON YAZILACAK | K29: YÜKSEK | L29: SU_GIDA_VB._UYGUNSUZLUKLARI | M29: GÜVENİLİR OLMAYAN TEDARİKÇİDEN ALINAN GIDALAR | P29: 1 | Q29: 2 | W29: 1 | X29: 45417 | Y29: 45419 | Z29: KAPALI | AA29: İLGİLİ SORUMLUNUN ADI SOYADI | AB29: 45412 | AC29: İŞ GÜVENLİĞİ UZMANI GİRİNİZ-27
A30: UYG_NO_28 | B30: 45414 | C30: FİRMA ADI GİRİNİZ-12 | D30: BC*** TE**** | E30: ELEKTRİKÇİ | F30: UYGUNSUZLUK BÖLGESİ GİRİNİZ-28 | G30: LOKASYON UYG_NO_28 UYGUNSUZLUK BÖLGESİ GİRİNİZ-28 | H30: İÇ TETKİK | I30: UYGUNSUZLUK AÇIKLAMASI.....UYG_NO_28 | J30: UYG_NO_28 ALINAN AKSİYON YAZILACAK | K30: ÇOK YÜKSEK | L30: TERTİP_DÜZEN_EKSİKLİĞİ | M30: ALANLARIN SORUMLULARCA TEMİZLENMEMESİ | P30: 1 | Q30: 2 | X30: 45421 | Y30: 45423 | Z30: KAPALI | AA30: İLGİLİ SORUMLUNUN ADI SOYADI | AB30: 45416 | AC30: İŞ GÜVENLİĞİ UZMANI GİRİNİZ-28
A31: UYG_NO_29 | B31: 45418 | C31: FİRMA ADI GİRİNİZ-13 | D31: KL**** SE**** | E31: TEMİZLİK PERSONELİ | F31: UYGUNSUZLUK BÖLGESİ GİRİNİZ-29 | G31: LOKASYON UYG_NO_29 UYGUNSUZLUK BÖLGESİ GİRİNİZ-29 | H31: İÇ TETKİK | I31: UYGUNSUZLUK AÇIKLAMASI.....UYG_NO_29 | J31: UYG_NO_29 ALINAN AKSİYON YAZILACAK | K31: DÜŞÜK | L31: KKD_UYGUNSUZLUKLARI | M31: ÇALIŞANIN KKD KULLANIMININ ÖNEMİNİ BİLMEMESİ | P31: 1 | Q31: 2 | U31: 1 | V31: VAR | X31: 45425 | Y31: 45427 | Z31: KAPALI | AA31: İLGİLİ SORUMLUNUN ADI SOYADI | AB31: 45420 | AC31: İŞ GÜVENLİĞİ UZMANI GİRİNİZ-29
A32: UYG_NO_30 | B32: 45422 | C32: FİRMA ADI GİRİNİZ-14 | D32: BC*** TE**** | E32: SATIŞ PERSONELİ | F32: UYGUNSUZLUK BÖLGESİ GİRİNİZ-2 | G32: LOKASYON UYG_NO_30 UYGUNSUZLUK BÖLGESİ GİRİNİZ-2 | H32: DOKÜMAN UYGUNSUZLUĞU | I32: UYGUNSUZLUK AÇIKLAMASI.....UYG_NO_30 | J32: UYG_NO_30 ALINAN AKSİYON YAZILACAK | K32: ORTA | L32: ELEKTRİK_UYGUNSUZLUKLARI | M32: ELEKTRİK KAYNAKLI EKİPMANLARIN YETKİSİZ KİŞİLERCE TAMİR EDİLMESİ | P32: 1 | Q32: 2 | R32: 1 | S32: 100 | X32: 45429 | Y32: 45431 | Z32: KAPALI | AA32: İLGİLİ SORUMLUNUN ADI SOYADI | AB32: 45424 | AC32: İŞ GÜVENLİĞİ UZMANI GİRİNİZ-1
A33: UYG_NO_31 | B33: 45426 | C33: FİRMA ADI GİRİNİZ-15 | D33: KL**** SE**** | E33: TAMİRCİ | F33: UYGUNSUZLUK BÖLGESİ GİRİNİZ-3 | G33: LOKASYON UYG_NO_31 UYGUNSUZLUK BÖLGESİ GİRİNİZ-3 | H33: DOKÜMAN UYGUNSUZLUĞU | I33: UYGUNSUZLUK AÇIKLAMASI.....UYG_NO_31 | J33: UYG_NO_31 ALINAN AKSİYON YAZILACAK | K33: YÜKSEK | L33: KALDIMA_OPERASYONU_UYGUNSUZLUKLARI | M33: AYDINLATMANIN YETERSİZ OLMASI | P33: 1 | Q33: 2 | R33: 1 | S33: 100 | X33: 45433 | Y33: 45435 | Z33: KAPALI | AA33: İLGİLİ SORUMLUNUN ADI SOYADI | AB33: 45428 | AC33: İŞ GÜVENLİĞİ UZMANI GİRİNİZ-2
A34: UYG_NO_32 | B34: 45430 | C34: FİRMA ADI GİRİNİZ-16 | D34: BC*** TE**** | E34: OFİS PERSONELİ | F34: UYGUNSUZLUK BÖLGESİ GİRİNİZ-4 | G34: LOKASYON UYG_NO_32 UYGUNSUZLUK BÖLGESİ GİRİNİZ-4 | H34: DOKÜMAN UYGUNSUZLUĞU | I34: UYGUNSUZLUK AÇIKLAMASI.....UYG_NO_32 | J34: UYG_NO_32 ALINAN AKSİYON YAZILACAK | K34: ÇOK YÜKSEK | L34: İSKELE_UYGUNSUZLUKLARI | M34: ERİŞİM MERDİVENİ VEYA GEÇİŞLERİN BULUNMAMASI | P34: 1 | Q34: 2 | R34: 1 | S34: 100 | X34: 45437 | Y34: 45439 | Z34: KAPALI | AA34: İLGİLİ SORUMLUNUN ADI SOYADI | AB34: 45432 | AC34: İŞ GÜVENLİĞİ UZMANI GİRİNİZ-3
A35: UYG_NO_33 | B35: 45434 | C35: FİRMA ADI GİRİNİZ-17 | D35: KL**** SE**** | E35: ELEKTRİKÇİ | F35: UYGUNSUZLUK BÖLGESİ GİRİNİZ-5 | G35: LOKASYON UYG_NO_33 UYGUNSUZLUK BÖLGESİ GİRİNİZ-5 | H35: DOKÜMAN UYGUNSUZLUĞU | I35: UYGUNSUZLUK AÇIKLAMASI.....UYG_NO_33 | J35: UYG_NO_33 ALINAN AKSİYON YAZILACAK | K35: DÜŞÜK | L35: YÜKSEKTE_ÇALIŞMA_UYGUNSUZLUKLARI | M35: ÇALIŞMA ALANININ ALTINDAKİ BÖLGENİN GÜVENLİĞİNİN ALINMAMASI | P35: 1 | Q35: 2 | R35: 1 | S35: 100 | X35: 45441 | Y35: 45443 | Z35: KAPALI | AA35: İLGİLİ SORUMLUNUN ADI SOYADI | AB35: 45436 | AC35: İŞ GÜVENLİĞİ UZMANI GİRİNİZ-4
A36: UYG_NO_34 | B36: 45438 | C36: FİRMA ADI GİRİNİZ-18 | D36: BC*** TE**** | E36: TEMİZLİK PERSONELİ | F36: UYGUNSUZLUK BÖLGESİ GİRİNİZ-6 | G36: LOKASYON UYG_NO_34 UYGUNSUZLUK BÖLGESİ GİRİNİZ-6 | H36: DOKÜMAN UYGUNSUZLUĞU | I36: UYGUNSUZLUK AÇIKLAMASI.....UYG_NO_34 | J36: UYG_NO_34 ALINAN AKSİYON YAZILACAK | K36: YÜKSEK | L36: TALİMAT_PROSEDÜRLERE_UYMAMA | M36: GÖZETİM VEYA DENETİM YAPILMAMASI | P36: 1 | Q36: 2 | R36: 1 | S36: 100 | X36: 45445 | Y36: 45447 | Z36: KAPALI | AA36: İLGİLİ SORUMLUNUN ADI SOYADI | AB36: 45440 | AC36: İŞ GÜVENLİĞİ UZMANI GİRİNİZ-5
A37: UYG_NO_35 | B37: 45442 | C37: FİRMA ADI GİRİNİZ-19 | D37: KL**** SE**** | E37: SATIŞ PERSONELİ | F37: UYGUNSUZLUK BÖLGESİ GİRİNİZ-7 | G37: LOKASYON UYG_NO_35 UYGUNSUZLUK BÖLGESİ GİRİNİZ-7 | H37: DOKÜMAN UYGUNSUZLUĞU | I37: UYGUNSUZLUK AÇIKLAMASI.....UYG_NO_35 | J37: UYG_NO_35 ALINAN AKSİYON YAZILACAK | K37: YÜKSEK | L37: ARAÇ_MAKİNE_EKİPMAN_UYGUNSUZLUKLARI | M37: BAKIM KAYITLARININ TUTULMAMASI | P37: 1 | Q37: 2 | R37: 1 | S37: 100 | X37: 45449 | Y37: 45451 | Z37: KAPALI | AA37: İLGİLİ SORUMLUNUN ADI SOYADI | AB37: 45444 | AC37: İŞ GÜVENLİĞİ UZMANI GİRİNİZ-6
A38: UYG_NO_36 | B38: 45446 | C38: FİRMA ADI GİRİNİZ-17 | D38: BC*** TE**** | E38: ÇAYCI | F38: UYGUNSUZLUK BÖLGESİ GİRİNİZ-8 | G38: LOKASYON UYG_NO_36 UYGUNSUZLUK BÖLGESİ GİRİNİZ-8 | H38: ÇALIŞAN BİLDİRİMİ | I38: UYGUNSUZLUK AÇIKLAMASI.....UYG_NO_36 | J38: UYG_NO_36 ALINAN AKSİYON YAZILACAK | K38: ÇOK YÜKSEK | L38: TRAFİK_KURALLARINA_UYMAMA | M38: DAR ALANLARDA GÖRÜŞSÜZ KÖR NOKTAYA HIZLA GİRİLMESİ | P38: 1 | Q38: 2 | R38: 1 | S38: 100 | X38: 45453 | Y38: 45455 | Z38: KAPALI | AA38: İLGİLİ SORUMLUNUN ADI SOYADI | AB38: 45448 | AC38: İŞ GÜVENLİĞİ UZMANI GİRİNİZ-7
A39: UYG_NO_37 | B39: 45450 | C39: FİRMA ADI GİRİNİZ-12 | D39: KL**** SE**** | E39: BOYACI | F39: UYGUNSUZLUK BÖLGESİ GİRİNİZ-9 | G39: LOKASYON UYG_NO_37 UYGUNSUZLUK BÖLGESİ GİRİNİZ-9 | H39: ÇALIŞAN BİLDİRİMİ | I39: UYGUNSUZLUK AÇIKLAMASI.....UYG_NO_37 | J39: UYG_NO_37 ALINAN AKSİYON YAZILACAK | K39: DÜŞÜK | L39: SABİTLENMEYEN_DÜŞME_İHTİMALİ_BULUNAN_MALZEME_ARAÇ_EKİPMAN | M39: ÇALIŞMA SIRASINDA YERİNDEN OYNAYABİLECEK APARATLARIN KONTROL EDİLMEMESİ | P39: 1 | Q39: 2 | R39: 1 | S39: 100 | X39: 45457 | Y39: 45459 | Z39: KAPALI | AA39: İLGİLİ SORUMLUNUN ADI SOYADI | AB39: 45452 | AC39: İŞ GÜVENLİĞİ UZMANI GİRİNİZ-8
A40: UYG_NO_38 | B40: 45454 | C40: FİRMA ADI GİRİNİZ-13 | D40: BC*** TE**** | E40: TAMİRCİ | F40: UYGUNSUZLUK BÖLGESİ GİRİNİZ-10 | G40: LOKASYON UYG_NO_38 UYGUNSUZLUK BÖLGESİ GİRİNİZ-10 | H40: ÇALIŞAN BİLDİRİMİ | I40: UYGUNSUZLUK AÇIKLAMASI.....UYG_NO_38 | J40: UYG_NO_38 ALINAN AKSİYON YAZILACAK | K40: ORTA | L40: ISLAK_KAYGAN_ZEMİN | M40: GEÇİCİ ISLAK ZEMİNLER İÇİN ŞERİT ÇEKİLMEMESİ | P40: 1 | Q40: 2 | R40: 1 | S40: 100 | X40: 45461 | Y40: 45463 | Z40: KAPALI | AA40: İLGİLİ SORUMLUNUN ADI SOYADI | AB40: 45456 | AC40: İŞ GÜVENLİĞİ UZMANI GİRİNİZ-9
...

Sheet Data
A1: UYGUNSUZLUK KAYNAĞI | C1: FİRMA | E1: BÖLGE | G1: FORMU DÜZENLEYEN İŞ GÜVENLİĞİ UZMANI | I1: TERTİP_DÜZEN_EKSİKLİĞİ | J1: KKD_UYGUNSUZLUKLARI | K1: ELEKTRİK_UYGUNSUZLUKLARI | L1: KALDIMA_OPERASYONU_UYGUNSUZLUKLARI | M1: İSKELE_UYGUNSUZLUKLARI | N1: YÜKSEKTE_ÇALIŞMA_UYGUNSUZLUKLARI | O1: TALİMAT_PROSEDÜRLERE_UYMAMA | P1: ARAÇ_MAKİNE_EKİPMAN_UYGUNSUZLUKLARI | Q1: TRAFİK_KURALLARINA_UYMAMA | R1: SABİTLENMEYEN_DÜŞME_İHTİMALİ_BULUNAN_MALZEME_ARAÇ_EKİPMAN | S1: ISLAK_KAYGAN_ZEMİN | T1: KAPALI_KISITLI_ALAN_UYGUNSUZLUKLARI | U1: İŞ_İZNİ_UYGUNSUZLUKLARI | V1: ACİL_DURUM_UYGUNSUZLUĞU | W1: İMALAT_MÜHENDİSLİK_YÖNETİM_UYGUNSUZLUKLARI | X1: ALAN_SINIRLANDIRMA_UYGUNSUZLUKLARI | Y1: UYARI_İKAZ_UYGUNSUZLUKLARI | Z1: İSTİFLEME_TAŞIMA_UYGUNSUZLUKLARI | AA1: HİJYEN_UYGUNSUZLUKLARI | AB1: AYDINLATMA_UYGUNSUZLUKLARI | AC1: SAĞLIK_UYGUNSUZLUKLARI | AD1: GÖREV_YETKİ_DIŞINDA_ÇALIŞMA_PERSONEL_ÇALIŞTIRMA | AE1: KİMYASAL_MADDE_UYGUNSUZLUKLARI | AF1: DEPO_İSTİFLEME_UYGUNSUZLUKLARI | AG1: TERMAL_KONFOR_ERGONOMİ_UYGUNSUZLUKLARI | AH1: KİŞİSEL_NEDENLER | AI1: SU_GIDA_VB._UYGUNSUZLUKLARI
A2: SAHA DENETİMİ | C2: FİRMA ADI GİRİNİZ-1 | E2: UYGUNSUZLUK BÖLGESİ GİRİNİZ-1 | G2: İŞ GÜVENLİĞİ UZMANI GİRİNİZ-1 | I2: ACİL ÇIKIŞLARIN ÖNÜ KAPATILMIŞ OLMASI | J2: AYAKKABININ TABAN YAPISININ BOZULMASI, KAYMAZLIĞINI YİTİRMESİ | K2: ARIZALI PRİZ, LAMBA, SİGORTA GİBİ DONANIMLARIN DEĞİŞTİRİLMEMESİ | L2: ACİL DURDURMA PROSEDÜRLERİNİN BİLİNMEMESİ | M2: AHŞAP VEYA SAC PLATFORMLARIN KIRIK/ÇÜRÜK OLMASI | N2: ACELEYE GETİRİLEN İŞLER NEDENİYLE EMNİYETİN İKİNCİ PLANDA KALMASI | O2: DİLİNİN TEKNİK OLMASI VE ÇALIŞANLARIN ANLAYAMAMASI | P2: ACİL DURDURMA BUTONLARININ ÇALIŞMAMASI | Q2: ACİL İŞLER NEDENİYLE KURALLARIN GÖZ ARDI EDİLMESİ | R2: AÇIK ALANDA RÜZGÂRA KARŞI SABİTLENMEMİŞ MALZEME BIRAKILMASI | S2: "ISLAK ZEMİN" UYARI LEVHASI VEYA KONİSİ BULUNMAMASI | T2: ACİL KURTARMA EKİPMANLARININ (TRİPOD, HALAT VB.) BULUNMAMASI | U2: ACİL DURUMLARA KARŞI PLAN VEYA İLETİŞİM BİLGİSİNİN İZİNDE YER ALMAMASI | V2: ACİL AYDINLATMALARIN ÇALIŞMAMASI VEYA BULUNMAMASI | W2: ARIZA VE BAKIM KAYITLARININ TUTULMAMASI | X2: ACİL ÇIKIŞ YOLLARININ VEYA KAÇIŞ GÜZERGAHLARININ SINIRLANDIRILMAMASI | Y2: ACİL ÇIKIŞ YOLLARININ ZEMİN İŞARETLEMELERİNİN SİLİNMİŞ OLMASI | Z2: AĞIR MALZEMELERİN YUKARIDA, HAFİFLERİN AŞAĞIDA YER ALMASI | AA2: ATIKLARIN ZAMANINDA TOPLANMAMASI VEYA AÇIKTA BIRAKILMASI | AB2: ACİL DURUM AYDINLATMALARININ PERİYODİK TESTLERİNİN YAPILMAMASI | AC2: ACİL MÜDAHALE PLANLARININ OLMAMASI VEYA ÇALIŞANLARA BİLDİRİLMEMESİ | AD2: ACİL DURUM VEYA BAKIM GİBİ TEKNİK İŞLERDE UZMAN OLMAYAN PERSONELİN GÖREVLENDİRİLMESİ | AE2: DAMLAMA, SIZINTI, DÖKÜLME GİBİ DURUMLARDA MÜDAHALE EKSİKLİĞİ | AF2: ACİL ÇIKIŞ YOLLARININ İSTİFLEME NEDENİYLE KAPANMASI | AG2: AYAKTA UZUN SÜRE ÇALIŞMA – DESTEK EKİPMANI EKSİKLİĞİ (MİNDER, YÜKSELTİ) | AH2: ALKOL VEYA İLAÇ ETKİSİNDE OLMAK | AI2: AMBALAJLARIN ZARAR GÖRMESİ VEYA AÇILMASI
