Workbook

Sheet Dashboard
A1: İSG Performans Takip Dashboardu
A3: Raporlama Yılı: | B3: 2024
A5: =B3&" - "&B3-1&" Yılları Analizi" -> 2024 - 2023 Yılları Analizi
A55: İSG Performans Takip Dashboardu
A57: =A5 -> 2024 - 2023 Yılları Analizi
A110: İSG Performans Takip Dashboardu
A112: =A57 -> 2024 - 2023 Yılları Analizi

Sheet Data
A1: Raporlama Yapılacak Ay | B1: Çalışan Sayısı | C1: Adam/Saat | D1: Ölümlü İş Kazası | E1: Kayıp İş Günlü Kaza | F1: Kayıp İş Günü Sayısı | G1: İlk Yardım Gerektiren Kaza | H1: Tıbbi Müdahaleli Kaza | I1: Rahatsızlanma | J1: Rahatsızlanma Kaynaklı Kayıp Gün | K1: Meslek Hastalığı | L1: Trafik Kazası | M1: Maddi Hasarlı Kaza | N1: Yangın | O1: Ramak Kala | P1: Çevre Kazası | Q1: Eğitim Adam/Saat | R1: Uygunsuzluk | S1: Alt Yüklenici Firma Sayısı | T1: Alt İşveren Çalışan Sayısı
A2: 43831 | B2: 1200 | C2: 288000 | D2: =E2+1 -> 2 | E2: 1 | F2: 10 | G2: 1 | H2: 2 | I2: 3 | J2: 4 | K2: 1 | L2: 1 | M2: 3 | N2: 1 | O2: 10 | P2: 1 | Q2: 1250 | R2: 15 | S2: 7 | T2: 759
A3: 43862 | B3: 1201 | C3: 288240 | D3: =E3+1 -> 3 | E3: 2 | F3: 11 | G3: 2 | H3: 3 | I3: 4 | J3: 5 | K3: 0 | L3: 1 | M3: 4 | N3: 1 | O3: 11 | P3: 0 | Q3: 1251 | R3: 16 | S3: 7 | T3: 760
A4: 43891 | B4: 1202 | C4: 288480 | D4: =E4+1 -> 4 | E4: 3 | F4: 12 | G4: 3 | H4: 4 | I4: 5 | J4: 6 | K4: 0 | L4: 2 | M4: 5 | N4: 0 | O4: 12 | P4: 0 | Q4: 1252 | R4: 17 | S4: 7 | T4: 761
A5: 43922 | B5: 1203 | C5: 288720 | D5: =E5+1 -> 5 | E5: 4 | F5: 13 | G5: 4 | H5: 5 | I5: 6 | J5: 7 | K5: 0 | L5: 2 | M5: 6 | N5: 0 | O5: 13 | P5: 0 | Q5: 1253 | R5: 18 | S5: 6 | T5: 762
A6: 43952 | B6: 1700 | C6: 450123 | D6: =E6+1 -> 6 | E6: 5 | F6: 14 | G6: 5 | H6: 6 | I6: 7 | J6: 8 | K6: 0 | L6: 2 | M6: 7 | N6: 0 | O6: 14 | P6: 0 | Q6: 1254 | R6: 19 | S6: 7 | T6: 763
A7: 43983 | B7: 1205 | C7: 289200 | D7: =E7+1 -> 7 | E7: 6 | F7: 15 | G7: 6 | H7: 7 | I7: 8 | J7: 9 | K7: 0 | L7: 2 | M7: 8 | N7: 0 | O7: 15 | P7: 0 | Q7: 1255 | R7: 20 | S7: 7 | T7: 764
A8: 44013 | B8: 1206 | C8: 289440 | D8: =E8+1 -> 8 | E8: 7 | F8: 16 | G8: 7 | H8: 8 | I8: 9 | J8: 10 | K8: 0 | L8: 4 | M8: 12 | N8: 2 | O8: 16 | P8: 2 | Q8: 1256 | R8: 21 | S8: 9 | T8: 765
A9: 44044 | B9: 1207 | C9: 289680 | D9: =E9+1 -> 9 | E9: 8 | F9: 17 | G9: 8 | H9: 9 | I9: 10 | J9: 11 | K9: 0 | L9: 5 | M9: 13 | N9: 0 | O9: 17 | P9: 3 | Q9: 1257 | R9: 22 | S9: 7 | T9: 800
A10: 44075 | B10: 1208 | C10: 289920 | D10: =E10+1 -> 10 | E10: 9 | F10: 18 | G10: 9 | H10: 10 | I10: 11 | J10: 12 | K10: 1 | L10: 3 | M10: 14 | N10: 3 | O10: 18 | P10: 4 | Q10: 1258 | R10: 23 | S10: 7 | T10: 801
A11: 44105 | B11: 1209 | C11: 290160 | D11: =E11+1 -> 2 | E11: 1 | F11: 19 | G11: 10 | H11: 11 | I11: 12 | J11: 13 | K11: 0 | L11: 2 | M11: 15 | N11: 0 | O11: 19 | P11: 1 | Q11: 1259 | R11: 24 | S11: 7 | T11: 802
A12: 44136 | B12: 1210 | C12: 290400 | D12: =E12+1 -> 3 | E12: 2 | F12: 20 | G12: 11 | H12: 12 | I12: 13 | J12: 14 | K12: 0 | L12: 2 | M12: 16 | N12: 0 | O12: 20 | P12: 1 | Q12: 1260 | R12: 25 | S12: 7 | T12: 803
A13: 44166 | B13: 1211 | C13: 290640 | D13: =E13+1 -> 4 | E13: 3 | F13: 21 | G13: 12 | H13: 13 | I13: 14 | J13: 15 | K13: 0 | L13: 1 | M13: 17 | N13: 1 | O13: 21 | P13: 1 | Q13: 1261 | R13: 26 | S13: 10 | T13: 804
... A71: 45931 | B71: 3000 | C71: 304560 | D71: =E71+1 -> 7 | E71: 6 | F71: 79 | G71: 70 | H71: 71 | I71: 72 | J71: 73 | K71: 1 | L71: 4 | M71: 13 | N71: 0 | O71: 29 | P71: 0 | Q71: 1319 | R71: 60 | S71: 7 | T71: 643

Sheet Data-2 
B3: Kümülatif | C3: 2020 | D3: 2021 | E3: 2022 | F3: 2023 | G3: 2024 | H3: 2025 | I3: 2026 | J3: 2027 | K3: 2028 | L3: 2029 | M3: 2030
A4: Çalışan Sayısı | C4: {=IFERROR( SUMPRODUCT(--(YEAR(Data!$A$2:$A$1000)=C3),Data!$B$2:$B$1000) / SUMPRODUCT(--(YEAR(Data!$A$2:$A$1000)=C3),--(ISNUMBER(Data!$B$2:$B$1000))),"")} -> 1246.8333 | D4: {=IFERROR( SUMPRODUCT(--(YEAR(Data!$A$2:$A$1000)=D3),Data!$B$2:$B$1000) / SUMPRODUCT(--(YEAR(Data!$A$2:$A$1000)=D3),--(ISNUMBER(Data!$B$2:$B$1000))), "" )} -> 1217.5 | E4: {=IFERROR( SUMPRODUCT(--(YEAR(Data!$A$2:$A$1000)=E3),Data!$B$2:$B$1000) / SUMPRODUCT(--(YEAR(Data!$A$2:$A$1000)=E3),--(ISNUMBER(Data!$B$2:$B$1000))), "" )} -> 1229.5 | F4: {=IFERROR( SUMPRODUCT(--(YEAR(Data!$A$2:$A$1000)=F3),Data!$B$2:$B$1000) / SUMPRODUCT(--(YEAR(Data!$A$2:$A$1000)=F3),--(ISNUMBER(Data!$B$2:$B$1000))), "" )} -> 1266.5 | G4: {=IFERROR( SUMPRODUCT(--(YEAR(Data!$A$2:$A$1000)=G3),Data!$B$2:$B$1000) / SUMPRODUCT(--(YEAR(Data!$A$2:$A$1000)=G3),--(ISNUMBER(Data!$B$2:$B$1000))), "" )} -> 1253.5 | H4: {=IFERROR( SUMPRODUCT(--(YEAR(Data!$A$2:$A$1000)=H3),Data!$B$2:$B$1000) / SUMPRODUCT(--(YEAR(Data!$A$2:$A$1000)=H3),--(ISNUMBER(Data!$B$2:$B$1000))), "" )} -> 1437.6 | I4: {=IFERROR( SUMPRODUCT(--(YEAR(Data!$A$2:$A$1000)=I3),Data!$B$2:$B$1000) / SUMPRODUCT(--(YEAR(Data!$A$2:$A$1000)=I3),--(ISNUMBER(Data!$B$2:$B$1000))), "" )} | J4: {=IFERROR( SUMPRODUCT(--(YEAR(Data!$A$2:$A$1000)=J3),Data!$B$2:$B$1000) / SUMPRODUCT(--(YEAR(Data!$A$2:$A$1000)=J3),--(ISNUMBER(Data!$B$2:$B$1000))), "" )} | K4: {=IFERROR( SUMPRODUCT(--(YEAR(Data!$A$2:$A$1000)=K3),Data!$B$2:$B$1000) / SUMPRODUCT(--(YEAR(Data!$A$2:$A$1000)=K3),--(ISNUMBER(Data!$B$2:$B$1000))), "" )} | ... M4: {=IFERROR( SUMPRODUCT(--(YEAR(Data!$A$2:$A$1000)=M3),Data!$B$2:$B$1000) / SUMPRODUCT(--(YEAR(Data!$A$2:$A$1000)=M3),--(ISNUMBER(Data!$B$2:$B$1000))), "" )}
A5: Adam/Saat | B5: =SUM(C5:M5) -> 21055244 | C5: {=IF(SUMPRODUCT(--(YEAR(Data!$A$2:$A$1000)=C3),Data!$C$2:$C$1000)=0, "", SUMPRODUCT(--(YEAR(Data!$A$2:$A$1000)=C3),Data!$C$2:$C$1000))} -> 3633003 | D5: {=IF(SUMPRODUCT(--(YEAR(Data!$A$2:$A$1000)=D3),Data!$C$2:$C$1000)=0, "", SUMPRODUCT(--(YEAR(Data!$A$2:$A$1000)=D3),Data!$C$2:$C$1000))} -> 3506400 | E5: {=IF(SUMPRODUCT(--(YEAR(Data!$A$2:$A$1000)=E3),Data!$C$2:$C$1000)=0, "", SUMPRODUCT(--(YEAR(Data!$A$2:$A$1000)=E3),Data!$C$2:$C$1000))} -> 3540960 | F5: {=IF(SUMPRODUCT(--(YEAR(Data!$A$2:$A$1000)=F3),Data!$C$2:$C$1000)=0, "", SUMPRODUCT(--(YEAR(Data!$A$2:$A$1000)=F3),Data!$C$2:$C$1000))} -> 3730001 | G5: {=IF(SUMPRODUCT(--(YEAR(Data!$A$2:$A$1000)=G3),Data!$C$2:$C$1000)=0, "", SUMPRODUCT(--(YEAR(Data!$A$2:$A$1000)=G3),Data!$C$2:$C$1000))} -> 3610080 | H5: {=IF(SUMPRODUCT(--(YEAR(Data!$A$2:$A$1000)=H3),Data!$C$2:$C$1000)=0, "", SUMPRODUCT(--(YEAR(Data!$A$2:$A$1000)=H3),Data!$C$2:$C$1000))} -> 3034800 | I5: {=IF(SUMPRODUCT(--(YEAR(Data!$A$2:$A$1000)=I3),Data!$C$2:$C$1000)=0, "", SUMPRODUCT(--(YEAR(Data!$A$2:$A$1000)=I3),Data!$C$2:$C$1000))} | J5: {=IF(SUMPRODUCT(--(YEAR(Data!$A$2:$A$1000)=J3),Data!$C$2:$C$1000)=0, "", SUMPRODUCT(--(YEAR(Data!$A$2:$A$1000)=J3),Data!$C$2:$C$1000))} | ... M5: {=IF(SUMPRODUCT(--(YEAR(Data!$A$2:$A$1000)=M3),Data!$C$2:$C$1000)=0, "", SUMPRODUCT(--(YEAR(Data!$A$2:$A$1000)=M3),Data!$C$2:$C$1000))}
A6: Ölümlü İş Kazası | B6: =SUM(C6:M6) -> 407 | C6: {=IF(SUMPRODUCT(--(YEAR(Data!$A$2:$A$1000)=C3),Data!$D$2:$D$1000)=0, "", SUMPRODUCT(--(YEAR(Data!$A$2:$A$1000)=C3),Data!$D$2:$D$1000))} -> 63 | D6: {=IF(SUMPRODUCT(--(YEAR(Data!$A$2:$A$1000)=D3),Data!$D$2:$D$1000)=0, "", SUMPRODUCT(--(YEAR(Data!$A$2:$A$1000)=D3),Data!$D$2:$D$1000))} -> 69 | E6: {=IF(SUMPRODUCT(--(YEAR(Data!$A$2:$A$1000)=E3),Data!$D$2:$D$1000)=0, "", SUMPRODUCT(--(YEAR(Data!$A$2:$A$1000)=E3),Data!$D$2:$D$1000))} -> 60 | F6: {=IF(SUMPRODUCT(--(YEAR(Data!$A$2:$A$1000)=F3),Data!$D$2:$D$1000)=0, "", SUMPRODUCT(--(YEAR(Data!$A$2:$A$1000)=F3),Data!$D$2:$D$1000))} -> 79 | G6: {=IF(SUMPRODUCT(--(YEAR(Data!$A$2:$A$1000)=G3),Data!$D$2:$D$1000)=0, "", SUMPRODUCT(--(YEAR(Data!$A$2:$A$1000)=G3),Data!$D$2:$D$1000))} -> 86 | H6: {=IF(SUMPRODUCT(--(YEAR(Data!$A$2:$A$1000)=H3),Data!$D$2:$D$1000)=0, "", SUMPRODUCT(--(YEAR(Data!$A$2:$A$1000)=H3),Data!$D$2:$D$1000))} -> 50 | I6: {=IF(SUMPRODUCT(--(YEAR(Data!$A$2:$A$1000)=I3),Data!$D$2:$D$1000)=0, "", SUMPRODUCT(--(YEAR(Data!$A$2:$A$1000)=I3),Data!$D$2:$D$1000))} | J6: {=IF(SUMPRODUCT(--(YEAR(Data!$A$2:$A$1000)=J3),Data!$D$2:$D$1000)=0, "", SUMPRODUCT(--(YEAR(Data!$A$2:$A$1000)=J3),Data!$D$2:$D$1000))} | ... M6: {=IF(SUMPRODUCT(--(YEAR(Data!$A$2:$A$1000)=M3),Data!$D$2:$D$1000)=0, "", SUMPRODUCT(--(YEAR(Data!$A$2:$A$1000)=M3),Data!$D$2:$D$1000))}
A7: Kayıp İş Günlü Kaza | B7: =SUM(C7:M7) -> 337 | C7: {=IF(SUMPRODUCT(--(YEAR(Data!$A$2:$A$1000)=C3),Data!$E$2:$E$1000)=0, "", SUMPRODUCT(--(YEAR(Data!$A$2:$A$1000)=C3),Data!$E$2:$E$1000))} -> 51 | D7: {=IF(SUMPRODUCT(--(YEAR(Data!$A$2:$A$1000)=D3),Data!$E$2:$E$1000)=0, "", SUMPRODUCT(--(YEAR(Data!$A$2:$A$1000)=D3),Data!$E$2:$E$1000))} -> 57 | E7: {=IF(SUMPRODUCT(--(YEAR(Data!$A$2:$A$1000)=E3),Data!$E$2:$E$1000)=0, "", SUMPRODUCT(--(YEAR(Data!$A$2:$A$1000)=E3),Data!$E$2:$E$1000))} -> 48 | F7: {=IF(SUMPRODUCT(--(YEAR(Data!$A$2:$A$1000)=F3),Data!$E$2:$E$1000)=0, "", SUMPRODUCT(--(YEAR(Data!$A$2:$A$1000)=F3),Data!$E$2:$E$1000))} -> 67 | G7: {=IF(SUMPRODUCT(--(YEAR(Data!$A$2:$A$1000)=G3),Data!$E$2:$E$1000)=0, "", SUMPRODUCT(--(YEAR(Data!$A$2:$A$1000)=G3),Data!$E$2:$E$1000))} -> 74 | H7: {=IF(SUMPRODUCT(--(YEAR(Data!$A$2:$A$1000)=H3),Data!$E$2:$E$1000)=0, "", SUMPRODUCT(--(YEAR(Data!$A$2:$A$1000)=H3),Data!$E$2:$E$1000))} -> 40 | I7: {=IF(SUMPRODUCT(--(YEAR(Data!$A$2:$A$1000)=I3),Data!$E$2:$E$1000)=0, "", SUMPRODUCT(--(YEAR(Data!$A$2:$A$1000)=I3),Data!$E$2:$E$1000))} | J7: {=IF(SUMPRODUCT(--(YEAR(Data!$A$2:$A$1000)=J3),Data!$E$2:$E$1000)=0, "", SUMPRODUCT(--(YEAR(Data!$A$2:$A$1000)=J3),Data!$E$2:$E$1000))} | ... M7: {=IF(SUMPRODUCT(--(YEAR(Data!$A$2:$A$1000)=M3),Data!$E$2:$E$1000)=0, "", SUMPRODUCT(--(YEAR(Data!$A$2:$A$1000)=M3),Data!$E$2:$E$1000))}
A8: Kayıp İş Günü Sayısı | B8: =SUM(C8:M8) -> 2681 | C8: {=IF(SUMPRODUCT(--(YEAR(Data!$A$2:$A$1000)=C3),Data!$F$2:$F$1000)=0, "", SUMPRODUCT(--(YEAR(Data!$A$2:$A$1000)=C3),Data!$F$2:$F$1000))} -> 186 | D8: {=IF(SUMPRODUCT(--(YEAR(Data!$A$2:$A$1000)=D3),Data!$F$2:$F$1000)=0, "", SUMPRODUCT(--(YEAR(Data!$A$2:$A$1000)=D3),Data!$F$2:$F$1000))} -> 330 | E8: {=IF(SUMPRODUCT(--(YEAR(Data!$A$2:$A$1000)=E3),Data!$F$2:$F$1000)=0, "", SUMPRODUCT(--(YEAR(Data!$A$2:$A$1000)=E3),Data!$F$2:$F$1000))} -> 474 | F8: {=IF(SUMPRODUCT(--(YEAR(Data!$A$2:$A$1000)=F3),Data!$F$2:$F$1000)=0, "", SUMPRODUCT(--(YEAR(Data!$A$2:$A$1000)=F3),Data!$F$2:$F$1000))} -> 562 | G8: {=IF(SUMPRODUCT(--(YEAR(Data!$A$2:$A$1000)=G3),Data!$F$2:$F$1000)=0, "", SUMPRODUCT(--(YEAR(Data!$A$2:$A$1000)=G3),Data!$F$2:$F$1000))} -> 384 | H8: {=IF(SUMPRODUCT(--(YEAR(Data!$A$2:$A$1000)=H3),Data!$F$2:$F$1000)=0, "", SUMPRODUCT(--(YEAR(Data!$A$2:$A$1000)=H3),Data!$F$2:$F$1000))} -> 745 | I8: {=IF(SUMPRODUCT(--(YEAR(Data!$A$2:$A$1000)=I3),Data!$F$2:$F$1000)=0, "", SUMPRODUCT(--(YEAR(Data!$A$2:$A$1000)=I3),Data!$F$2:$F$1000))} | J8: {=IF(SUMPRODUCT(--(YEAR(Data!$A$2:$A$1000)=J3),Data!$F$2:$F$1000)=0, "", SUMPRODUCT(--(YEAR(Data!$A$2:$A$1000)=J3),Data!$F$2:$F$1000))} | ... M8: {=IF(SUMPRODUCT(--(YEAR(Data!$A$2:$A$1000)=M3),Data!$F$2:$F$1000)=0, "", SUMPRODUCT(--(YEAR(Data!$A$2:$A$1000)=M3),Data!$F$2:$F$1000))}
A9: İlk Yardım Gerektiren Kaza | B9: =SUM(C9:M9) -> 2228 | C9: {=IF(SUMPRODUCT(--(YEAR(Data!$A$2:$A$1000)=C3),Data!$G$2:$G$1000)=0, "", SUMPRODUCT(--(YEAR(Data!$A$2:$A$1000)=C3),Data!$G$2:$G$1000))} -> 78 | D9: {=IF(SUMPRODUCT(--(YEAR(Data!$A$2:$A$1000)=D3),Data!$G$2:$G$1000)=0, "", SUMPRODUCT(--(YEAR(Data!$A$2:$A$1000)=D3),Data!$G$2:$G$1000))} -> 222 | E9: {=IF(SUMPRODUCT(--(YEAR(Data!$A$2:$A$1000)=E3),Data!$G$2:$G$1000)=0, "", SUMPRODUCT(--(YEAR(Data!$A$2:$A$1000)=E3),Data!$G$2:$G$1000))} -> 348 | F9: {=IF(SUMPRODUCT(--(YEAR(Data!$A$2:$A$1000)=F3),Data!$G$2:$G$1000)=0, "", SUMPRODUCT(--(YEAR(Data!$A$2:$A$1000)=F3),Data!$G$2:$G$1000))} -> 472 | G9: {=IF(SUMPRODUCT(--(YEAR(Data!$A$2:$A$1000)=G3),Data!$G$2:$G$1000)=0, "", SUMPRODUCT(--(YEAR(Data!$A$2:$A$1000)=G3),Data!$G$2:$G$1000))} -> 453 | H9: {=IF(SUMPRODUCT(--(YEAR(Data!$A$2:$A$1000)=H3),Data!$G$2:$G$1000)=0, "", SUMPRODUCT(--(YEAR(Data!$A$2:$A$1000)=H3),Data!$G$2:$G$1000))} -> 655 | I9: {=IF(SUMPRODUCT(--(YEAR(Data!$A$2:$A$1000)=I3),Data!$G$2:$G$1000)=0, "", SUMPRODUCT(--(YEAR(Data!$A$2:$A$1000)=I3),Data!$G$2:$G$1000))} | J9: {=IF(SUMPRODUCT(--(YEAR(Data!$A$2:$A$1000)=J3),Data!$G$2:$G$1000)=0, "", SUMPRODUCT(--(YEAR(Data!$A$2:$A$1000)=J3),Data!$G$2:$G$1000))} | ... M9: {=IF(SUMPRODUCT(--(YEAR(Data!$A$2:$A$1000)=M3),Data!$G$2:$G$1000)=0, "", SUMPRODUCT(--(YEAR(Data!$A$2:$A$1000)=M3),Data!$G$2:$G$1000))}
A10: Tıbbi Müdahaleli Kaza | B10: =SUM(C10:M10) -> 2375 | C10: {=IF(SUMPRODUCT(--(YEAR(Data!$A$2:$A$1000)=C3),Data!$H$2:$H$1000)=0, "", SUMPRODUCT(--(YEAR(Data!$A$2:$A$1000)=C3),Data!$H$2:$H$1000))} -> 90 | D10: {=IF(SUMPRODUCT(--(YEAR(Data!$A$2:$A$1000)=D3),Data!$H$2:$H$1000)=0, "", SUMPRODUCT(--(YEAR(Data!$A$2:$A$1000)=D3),Data!$H$2:$H$1000))} -> 234 | E10: {=IF(SUMPRODUCT(--(YEAR(Data!$A$2:$A$1000)=E3),Data!$H$2:$H$1000)=0, "", SUMPRODUCT(--(YEAR(Data!$A$2:$A$1000)=E3),Data!$H$2:$H$1000))} -> 378 | F10: {=IF(SUMPRODUCT(--(YEAR(Data!$A$2:$A$1000)=F3),Data!$H$2:$H$1000)=0, "", SUMPRODUCT(--(YEAR(Data!$A$2:$A$1000)=F3),Data!$H$2:$H$1000))} -> 522 | G10: {=IF(SUMPRODUCT(--(YEAR(Data!$A$2:$A$1000)=G3),Data!$H$2:$H$1000)=0, "", SUMPRODUCT(--(YEAR(Data!$A$2:$A$1000)=G3),Data!$H$2:$H$1000))} -> 486 | H10: {=IF(SUMPRODUCT(--(YEAR(Data!$A$2:$A$1000)=H3),Data!$H$2:$H$1000)=0, "", SUMPRODUCT(--(YEAR(Data!$A$2:$A$1000)=H3),Data!$H$2:$H$1000))} -> 665 | I10: {=IF(SUMPRODUCT(--(YEAR(Data!$A$2:$A$1000)=I3),Data!$H$2:$H$1000)=0, "", SUMPRODUCT(--(YEAR(Data!$A$2:$A$1000)=I3),Data!$H$2:$H$1000))} | J10: {=IF(SUMPRODUCT(--(YEAR(Data!$A$2:$A$1000)=J3),Data!$H$2:$H$1000)=0, "", SUMPRODUCT(--(YEAR(Data!$A$2:$A$1000)=J3),Data!$H$2:$H$1000))} | ... M10: {=IF(SUMPRODUCT(--(YEAR(Data!$A$2:$A$1000)=M3),Data!$H$2:$H$1000)=0, "", SUMPRODUCT(--(YEAR(Data!$A$2:$A$1000)=M3),Data!$H$2:$H$1000))}
A11: Rahatsızlanma | B11: =SUM(C11:M11) -> 2106 | C11: {=IF(SUMPRODUCT(--(YEAR(Data!$A$2:$A$1000)=C3),Data!$I$2:$I$1000)=0, "", SUMPRODUCT(--(YEAR(Data!$A$2:$A$1000)=C3),Data!$I$2:$I$1000))} -> 102 | D11: {=IF(SUMPRODUCT(--(YEAR(Data!$A$2:$A$1000)=D3),Data!$I$2:$I$1000)=0, "", SUMPRODUCT(--(YEAR(Data!$A$2:$A$1000)=D3),Data!$I$2:$I$1000))} -> 246 | E11: {=IF(SUMPRODUCT(--(YEAR(Data!$A$2:$A$1000)=E3),Data!$I$2:$I$1000)=0, "", SUMPRODUCT(--(YEAR(Data!$A$2:$A$1000)=E3),Data!$I$2:$I$1000))} -> 335 | F11: {=IF(SUMPRODUCT(--(YEAR(Data!$A$2:$A$1000)=F3),Data!$I$2:$I$1000)=0, "", SUMPRODUCT(--(YEAR(Data!$A$2:$A$1000)=F3),Data!$I$2:$I$1000))} -> 499 | G11: {=IF(SUMPRODUCT(--(YEAR(Data!$A$2:$A$1000)=G3),Data!$I$2:$I$1000)=0, "", SUMPRODUCT(--(YEAR(Data!$A$2:$A$1000)=G3),Data!$I$2:$I$1000))} -> 431 | H11: {=IF(SUMPRODUCT(--(YEAR(Data!$A$2:$A$1000)=H3),Data!$I$2:$I$1000)=0, "", SUMPRODUCT(--(YEAR(Data!$A$2:$A$1000)=H3),Data!$I$2:$I$1000))} -> 493 | I11: {=IF(SUMPRODUCT(--(YEAR(Data!$A$2:$A$1000)=I3),Data!$I$2:$I$1000)=0, "", SUMPRODUCT(--(YEAR(Data!$A$2:$A$1000)=I3),Data!$I$2:$I$1000))} | J11: {=IF(SUMPRODUCT(--(YEAR(Data!$A$2:$A$1000)=J3),Data!$I$2:$I$1000)=0, "", SUMPRODUCT(--(YEAR(Data!$A$2:$A$1000)=J3),Data!$I$2:$I$1000))} | ... M11: {=IF(SUMPRODUCT(--(YEAR(Data!$A$2:$A$1000)=M3),Data!$I$2:$I$1000)=0, "", SUMPRODUCT(--(YEAR(Data!$A$2:$A$1000)=M3),Data!$I$2:$I$1000))}
A12: Rahatsızlanma Kaynaklı Kayıp Gün | B12: =SUM(C12:M12) -> 2559 | C12: {=IF(SUMPRODUCT(--(YEAR(Data!$A$2:$A$1000)=C3),Data!$J$2:$J$1000)=0, "", SUMPRODUCT(--(YEAR(Data!$A$2:$A$1000)=C3),Data!$J$2:$J$1000))} -> 114 | D12: {=IF(SUMPRODUCT(--(YEAR(Data!$A$2:$A$1000)=D3),Data!$J$2:$J$1000)=0, "", SUMPRODUCT(--(YEAR(Data!$A$2:$A$1000)=D3),Data!$J$2:$J$1000))} -> 258 | E12: {=IF(SUMPRODUCT(--(YEAR(Data!$A$2:$A$1000)=E3),Data!$J$2:$J$1000)=0, "", SUMPRODUCT(--(YEAR(Data!$A$2:$A$1000)=E3),Data!$J$2:$J$1000))} -> 402 | F12: {=IF(SUMPRODUCT(--(YEAR(Data!$A$2:$A$1000)=F3),Data!$J$2:$J$1000)=0, "", SUMPRODUCT(--(YEAR(Data!$A$2:$A$1000)=F3),Data!$J$2:$J$1000))} -> 546 | G12: {=IF(SUMPRODUCT(--(YEAR(Data!$A$2:$A$1000)=G3),Data!$J$2:$J$1000)=0, "", SUMPRODUCT(--(YEAR(Data!$A$2:$A$1000)=G3),Data!$J$2:$J$1000))} -> 604 | H12: {=IF(SUMPRODUCT(--(YEAR(Data!$A$2:$A$1000)=H3),Data!$J$2:$J$1000)=0, "", SUMPRODUCT(--(YEAR(Data!$A$2:$A$1000)=H3),Data!$J$2:$J$1000))} -> 635 | I12: {=IF(SUMPRODUCT(--(YEAR(Data!$A$2:$A$1000)=I3),Data!$J$2:$J$1000)=0, "", SUMPRODUCT(--(YEAR(Data!$A$2:$A$1000)=I3),Data!$J$2:$J$1000))} | J12: {=IF(SUMPRODUCT(--(YEAR(Data!$A$2:$A$1000)=J3),Data!$J$2:$J$1000)=0, "", SUMPRODUCT(--(YEAR(Data!$A$2:$A$1000)=J3),Data!$J$2:$J$1000))} | ... M12: {=IF(SUMPRODUCT(--(YEAR(Data!$A$2:$A$1000)=M3),Data!$J$2:$J$1000)=0, "", SUMPRODUCT(--(YEAR(Data!$A$2:$A$1000)=M3),Data!$J$2:$J$1000))}
A13: Meslek Hastalığı | B13: =SUM(C13:M13) -> 90 | C13: {=IF(SUMPRODUCT(--(YEAR(Data!$A$2:$A$1000)=C3),Data!$K$2:$K$1000)=0, "", SUMPRODUCT(--(YEAR(Data!$A$2:$A$1000)=C3),Data!$K$2:$K$1000))} -> 2 | D13: {=IF(SUMPRODUCT(--(YEAR(Data!$A$2:$A$1000)=D3),Data!$K$2:$K$1000)=0, "", SUMPRODUCT(--(YEAR(Data!$A$2:$A$1000)=D3),Data!$K$2:$K$1000))} -> 3 | E13: {=IF(SUMPRODUCT(--(YEAR(Data!$A$2:$A$1000)=E3),Data!$K$2:$K$1000)=0, "", SUMPRODUCT(--(YEAR(Data!$A$2:$A$1000)=E3),Data!$K$2:$K$1000))} -> 7 | F13: {=IF(SUMPRODUCT(--(YEAR(Data!$A$2:$A$1000)=F3),Data!$K$2:$K$1000)=0, "", SUMPRODUCT(--(YEAR(Data!$A$2:$A$1000)=F3),Data!$K$2:$K$1000))} -> 35 | G13: {=IF(SUMPRODUCT(--(YEAR(Data!$A$2:$A$1000)=G3),Data!$K$2:$K$1000)=0, "", SUMPRODUCT(--(YEAR(Data!$A$2:$A$1000)=G3),Data!$K$2:$K$1000))} -> 35 | H13: {=IF(SUMPRODUCT(--(YEAR(Data!$A$2:$A$1000)=H3),Data!$K$2:$K$1000)=0, "", SUMPRODUCT(--(YEAR(Data!$A$2:$A$1000)=H3),Data!$K$2:$K$1000))} -> 8 | I13: {=IF(SUMPRODUCT(--(YEAR(Data!$A$2:$A$1000)=I3),Data!$K$2:$K$1000)=0, "", SUMPRODUCT(--(YEAR(Data!$A$2:$A$1000)=I3),Data!$K$2:$K$1000))} | J13: {=IF(SUMPRODUCT(--(YEAR(Data!$A$2:$A$1000)=J3),Data!$K$2:$K$1000)=0, "", SUMPRODUCT(--(YEAR(Data!$A$2:$A$1000)=J3),Data!$K$2:$K$1000))} | ... M13: {=IF(SUMPRODUCT(--(YEAR(Data!$A$2:$A$1000)=M3),Data!$K$2:$K$1000)=0, "", SUMPRODUCT(--(YEAR(Data!$A$2:$A$1000)=M3),Data!$K$2:$K$1000))}
A14: Trafik Kazası | B14: =SUM(C14:M14) -> 263 | C14: {=IF(SUMPRODUCT(--(YEAR(Data!$A$2:$A$1000)=C3),Data!$L$2:$L$1000)=0, "", SUMPRODUCT(--(YEAR(Data!$A$2:$A$1000)=C3),Data!$L$2:$L$1000))} -> 27 | D14: {=IF(SUMPRODUCT(--(YEAR(Data!$A$2:$A$1000)=D3),Data!$L$2:$L$1000)=0, "", SUMPRODUCT(--(YEAR(Data!$A$2:$A$1000)=D3),Data!$L$2:$L$1000))} -> 50 | E14: {=IF(SUMPRODUCT(--(YEAR(Data!$A$2:$A$1000)=E3),Data!$L$2:$L$1000)=0, "", SUMPRODUCT(--(YEAR(Data!$A$2:$A$1000)=E3),Data!$L$2:$L$1000))} -> 42 | F14: {=IF(SUMPRODUCT(--(YEAR(Data!$A$2:$A$1000)=F3),Data!$L$2:$L$1000)=0, "", SUMPRODUCT(--(YEAR(Data!$A$2:$A$1000)=F3),Data!$L$2:$L$1000))} -> 42 | G14: {=IF(SUMPRODUCT(--(YEAR(Data!$A$2:$A$1000)=G3),Data!$L$2:$L$1000)=0, "", SUMPRODUCT(--(YEAR(Data!$A$2:$A$1000)=G3),Data!$L$2:$L$1000))} -> 67 | H14: {=IF(SUMPRODUCT(--(YEAR(Data!$A$2:$A$1000)=H3),Data!$L$2:$L$1000)=0, "", SUMPRODUCT(--(YEAR(Data!$A$2:$A$1000)=H3),Data!$L$2:$L$1000))} -> 35 | I14: {=IF(SUMPRODUCT(--(YEAR(Data!$A$2:$A$1000)=I3),Data!$L$2:$L$1000)=0, "", SUMPRODUCT(--(YEAR(Data!$A$2:$A$1000)=I3),Data!$L$2:$L$1000))} | J14: {=IF(SUMPRODUCT(--(YEAR(Data!$A$2:$A$1000)=J3),Data!$L$2:$L$1000)=0, "", SUMPRODUCT(--(YEAR(Data!$A$2:$A$1000)=J3),Data!$L$2:$L$1000))} | ... M14: {=IF(SUMPRODUCT(--(YEAR(Data!$A$2:$A$1000)=M3),Data!$L$2:$L$1000)=0, "", SUMPRODUCT(--(YEAR(Data!$A$2:$A$1000)=M3),Data!$L$2:$L$1000))}
A15: Maddi Hasarlı Kaza | B15: =SUM(C15:M15) -> 598 | C15: {=IF(SUMPRODUCT(--(YEAR(Data!$A$2:$A$1000)=C3),Data!$M$2:$M$1000)=0, "", SUMPRODUCT(--(YEAR(Data!$A$2:$A$1000)=C3),Data!$M$2:$M$1000))} -> 120 | D15: {=IF(SUMPRODUCT(--(YEAR(Data!$A$2:$A$1000)=D3),Data!$M$2:$M$1000)=0, "", SUMPRODUCT(--(YEAR(Data!$A$2:$A$1000)=D3),Data!$M$2:$M$1000))} -> 110 | E15: {=IF(SUMPRODUCT(--(YEAR(Data!$A$2:$A$1000)=E3),Data!$M$2:$M$1000)=0, "", SUMPRODUCT(--(YEAR(Data!$A$2:$A$1000)=E3),Data!$M$2:$M$1000))} -> 99 | F15: {=IF(SUMPRODUCT(--(YEAR(Data!$A$2:$A$1000)=F3),Data!$M$2:$M$1000)=0, "", SUMPRODUCT(--(YEAR(Data!$A$2:$A$1000)=F3),Data!$M$2:$M$1000))} -> 112 | G15: {=IF(SUMPRODUCT(--(YEAR(Data!$A$2:$A$1000)=G3),Data!$M$2:$M$1000)=0, "", SUMPRODUCT(--(YEAR(Data!$A$2:$A$1000)=G3),Data!$M$2:$M$1000))} -> 95 | H15: {=IF(SUMPRODUCT(--(YEAR(Data!$A$2:$A$1000)=H3),Data!$M$2:$M$1000)=0, "", SUMPRODUCT(--(YEAR(Data!$A$2:$A$1000)=H3),Data!$M$2:$M$1000))} -> 62 | I15: {=IF(SUMPRODUCT(--(YEAR(Data!$A$2:$A$1000)=I3),Data!$M$2:$M$1000)=0, "", SUMPRODUCT(--(YEAR(Data!$A$2:$A$1000)=I3),Data!$M$2:$M$1000))} | J15: {=IF(SUMPRODUCT(--(YEAR(Data!$A$2:$A$1000)=J3),Data!$M$2:$M$1000)=0, "", SUMPRODUCT(--(YEAR(Data!$A$2:$A$1000)=J3),Data!$M$2:$M$1000))} | ... M15: {=IF(SUMPRODUCT(--(YEAR(Data!$A$2:$A$1000)=M3),Data!$M$2:$M$1000)=0, "", SUMPRODUCT(--(YEAR(Data!$A$2:$A$1000)=M3),Data!$M$2:$M$1000))}
A16: Yangın | B16: =SUM(C16:M16) -> 52 | C16: {=IF(SUMPRODUCT(--(YEAR(Data!$A$2:$A$1000)=C3),Data!$N$2:$N$1000)=0, "", SUMPRODUCT(--(YEAR(Data!$A$2:$A$1000)=C3),Data!$N$2:$N$1000))} -> 8 | D16: {=IF(SUMPRODUCT(--(YEAR(Data!$A$2:$A$1000)=D3),Data!$N$2:$N$1000)=0, "", SUMPRODUCT(--(YEAR(Data!$A$2:$A$1000)=D3),Data!$N$2:$N$1000))} -> 4 | E16: {=IF(SUMPRODUCT(--(YEAR(Data!$A$2:$A$1000)=E3),Data!$N$2:$N$1000)=0, "", SUMPRODUCT(--(YEAR(Data!$A$2:$A$1000)=E3),Data!$N$2:$N$1000))} -> 5 | F16: {=IF(SUMPRODUCT(--(YEAR(Data!$A$2:$A$1000)=F3),Data!$N$2:$N$1000)=0, "", SUMPRODUCT(--(YEAR(Data!$A$2:$A$1000)=F3),Data!$N$2:$N$1000))} -> 14 | G16: {=IF(SUMPRODUCT(--(YEAR(Data!$A$2:$A$1000)=G3),Data!$N$2:$N$1000)=0, "", SUMPRODUCT(--(YEAR(Data!$A$2:$A$1000)=G3),Data!$N$2:$N$1000))} -> 14 | H16: {=IF(SUMPRODUCT(--(YEAR(Data!$A$2:$A$1000)=H3),Data!$N$2:$N$1000)=0, "", SUMPRODUCT(--(YEAR(Data!$A$2:$A$1000)=H3),Data!$N$2:$N$1000))} -> 7 | I16: {=IF(SUMPRODUCT(--(YEAR(Data!$A$2:$A$1000)=I3),Data!$N$2:$N$1000)=0, "", SUMPRODUCT(--(YEAR(Data!$A$2:$A$1000)=I3),Data!$N$2:$N$1000))} | J16: {=IF(SUMPRODUCT(--(YEAR(Data!$A$2:$A$1000)=J3),Data!$N$2:$N$1000)=0, "", SUMPRODUCT(--(YEAR(Data!$A$2:$A$1000)=J3),Data!$N$2:$N$1000))} | ... M16: {=IF(SUMPRODUCT(--(YEAR(Data!$A$2:$A$1000)=M3),Data!$N$2:$N$1000)=0, "", SUMPRODUCT(--(YEAR(Data!$A$2:$A$1000)=M3),Data!$N$2:$N$1000))}
A17: Ramak Kala | B17: =SUM(C17:M17) -> 1766 | C17: {=IF(SUMPRODUCT(--(YEAR(Data!$A$2:$A$1000)=C3),Data!$O$2:$O$1000)=0, "", SUMPRODUCT(--(YEAR(Data!$A$2:$A$1000)=C3),Data!$O$2:$O$1000))} -> 186 | D17: {=IF(SUMPRODUCT(--(YEAR(Data!$A$2:$A$1000)=D3),Data!$O$2:$O$1000)=0, "", SUMPRODUCT(--(YEAR(Data!$A$2:$A$1000)=D3),Data!$O$2:$O$1000))} -> 310 | E17: {=IF(SUMPRODUCT(--(YEAR(Data!$A$2:$A$1000)=E3),Data!$O$2:$O$1000)=0, "", SUMPRODUCT(--(YEAR(Data!$A$2:$A$1000)=E3),Data!$O$2:$O$1000))} -> 435 | F17: {=IF(SUMPRODUCT(--(YEAR(Data!$A$2:$A$1000)=F3),Data!$O$2:$O$1000)=0, "", SUMPRODUCT(--(YEAR(Data!$A$2:$A$1000)=F3),Data!$O$2:$O$1000))} -> 279 | G17: {=IF(SUMPRODUCT(--(YEAR(Data!$A$2:$A$1000)=G3),Data!$O$2:$O$1000)=0, "", SUMPRODUCT(--(YEAR(Data!$A$2:$A$1000)=G3),Data!$O$2:$O$1000))} -> 281 | H17: {=IF(SUMPRODUCT(--(YEAR(Data!$A$2:$A$1000)=H3),Data!$O$2:$O$1000)=0, "", SUMPRODUCT(--(YEAR(Data!$A$2:$A$1000)=H3),Data!$O$2:$O$1000))} -> 275 | I17: {=IF(SUMPRODUCT(--(YEAR(Data!$A$2:$A$1000)=I3),Data!$O$2:$O$1000)=0, "", SUMPRODUCT(--(YEAR(Data!$A$2:$A$1000)=I3),Data!$O$2:$O$1000))} | J17: {=IF(SUMPRODUCT(--(YEAR(Data!$A$2:$A$1000)=J3),Data!$O$2:$O$1000)=0, "", SUMPRODUCT(--(YEAR(Data!$A$2:$A$1000)=J3),Data!$O$2:$O$1000))} | ... M17: {=IF(SUMPRODUCT(--(YEAR(Data!$A$2:$A$1000)=M3),Data!$O$2:$O$1000)=0, "", SUMPRODUCT(--(YEAR(Data!$A$2:$A$1000)=M3),Data!$O$2:$O$1000))}
A18: Çevre Kazası | B18: =SUM(C18:M18) -> 67 | C18: {=IF(SUMPRODUCT(--(YEAR(Data!$A$2:$A$1000)=C3),Data!$P$2:$P$1000)=0, "", SUMPRODUCT(--(YEAR(Data!$A$2:$A$1000)=C3),Data!$P$2:$P$1000))} -> 13 | D18: {=IF(SUMPRODUCT(--(YEAR(Data!$A$2:$A$1000)=D3),Data!$P$2:$P$1000)=0, "", SUMPRODUCT(--(YEAR(Data!$A$2:$A$1000)=D3),Data!$P$2:$P$1000))} -> 10 | E18: {=IF(SUMPRODUCT(--(YEAR(Data!$A$2:$A$1000)=E3),Data!$P$2:$P$1000)=0, "", SUMPRODUCT(--(YEAR(Data!$A$2:$A$1000)=E3),Data!$P$2:$P$1000))} -> 3 | F18: {=IF(SUMPRODUCT(--(YEAR(Data!$A$2:$A$1000)=F3),Data!$P$2:$P$1000)=0, "", SUMPRODUCT(--(YEAR(Data!$A$2:$A$1000)=F3),Data!$P$2:$P$1000))} -> 20 | G18: {=IF(SUMPRODUCT(--(YEAR(Data!$A$2:$A$1000)=G3),Data!$P$2:$P$1000)=0, "", SUMPRODUCT(--(YEAR(Data!$A$2:$A$1000)=G3),Data!$P$2:$P$1000))} -> 12 | H18: {=IF(SUMPRODUCT(--(YEAR(Data!$A$2:$A$1000)=H3),Data!$P$2:$P$1000)=0, "", SUMPRODUCT(--(YEAR(Data!$A$2:$A$1000)=H3),Data!$P$2:$P$1000))} -> 9 | I18: {=IF(SUMPRODUCT(--(YEAR(Data!$A$2:$A$1000)=I3),Data!$P$2:$P$1000)=0, "", SUMPRODUCT(--(YEAR(Data!$A$2:$A$1000)=I3),Data!$P$2:$P$1000))} | J18: {=IF(SUMPRODUCT(--(YEAR(Data!$A$2:$A$1000)=J3),Data!$P$2:$P$1000)=0, "", SUMPRODUCT(--(YEAR(Data!$A$2:$A$1000)=J3),Data!$P$2:$P$1000))} | ... M18: {=IF(SUMPRODUCT(--(YEAR(Data!$A$2:$A$1000)=M3),Data!$P$2:$P$1000)=0, "", SUMPRODUCT(--(YEAR(Data!$A$2:$A$1000)=M3),Data!$P$2:$P$1000))}
A19: Eğitim Adam/Saat | B19: =SUM(C19:M19) -> 71346 | C19: {=IF(SUMPRODUCT(--(YEAR(Data!$A$2:$A$1000)=C3),Data!$Q$2:$Q$1000)=0, "", SUMPRODUCT(--(YEAR(Data!$A$2:$A$1000)=C3),Data!$Q$2:$Q$1000))} -> 15066 | D19: {=IF(SUMPRODUCT(--(YEAR(Data!$A$2:$A$1000)=D3),Data!$Q$2:$Q$1000)=0, "", SUMPRODUCT(--(YEAR(Data!$A$2:$A$1000)=D3),Data!$Q$2:$Q$1000))} -> 15210 | E19: {=IF(SUMPRODUCT(--(YEAR(Data!$A$2:$A$1000)=E3),Data!$Q$2:$Q$1000)=0, "", SUMPRODUCT(--(YEAR(Data!$A$2:$A$1000)=E3),Data!$Q$2:$Q$1000))} -> 15354 | F19: {=IF(SUMPRODUCT(--(YEAR(Data!$A$2:$A$1000)=F3),Data!$Q$2:$Q$1000)=0, "", SUMPRODUCT(--(YEAR(Data!$A$2:$A$1000)=F3),Data!$Q$2:$Q$1000))} -> 6988 | G19: {=IF(SUMPRODUCT(--(YEAR(Data!$A$2:$A$1000)=G3),Data!$Q$2:$Q$1000)=0, "", SUMPRODUCT(--(YEAR(Data!$A$2:$A$1000)=G3),Data!$Q$2:$Q$1000))} -> 5583 | H19: {=IF(SUMPRODUCT(--(YEAR(Data!$A$2:$A$1000)=H3),Data!$Q$2:$Q$1000)=0, "", SUMPRODUCT(--(YEAR(Data!$A$2:$A$1000)=H3),Data!$Q$2:$Q$1000))} -> 13145 | I19: {=IF(SUMPRODUCT(--(YEAR(Data!$A$2:$A$1000)=I3),Data!$Q$2:$Q$1000)=0, "", SUMPRODUCT(--(YEAR(Data!$A$2:$A$1000)=I3),Data!$Q$2:$Q$1000))} | J19: {=IF(SUMPRODUCT(--(YEAR(Data!$A$2:$A$1000)=J3),Data!$Q$2:$Q$1000)=0, "", SUMPRODUCT(--(YEAR(Data!$A$2:$A$1000)=J3),Data!$Q$2:$Q$1000))} | ... M19: {=IF(SUMPRODUCT(--(YEAR(Data!$A$2:$A$1000)=M3),Data!$Q$2:$Q$1000)=0, "", SUMPRODUCT(--(YEAR(Data!$A$2:$A$1000)=M3),Data!$Q$2:$Q$1000))}
A20: Uygunsuzluk | B20: =SUM(C20:M20) -> 1841 | C20: {=IF(SUMPRODUCT(--(YEAR(Data!$A$2:$A$1000)=C3),Data!$R$2:$R$1000)=0, "", SUMPRODUCT(--(YEAR(Data!$A$2:$A$1000)=C3),Data!$R$2:$R$1000))} -> 246 | D20: {=IF(SUMPRODUCT(--(YEAR(Data!$A$2:$A$1000)=D3),Data!$R$2:$R$1000)=0, "", SUMPRODUCT(--(YEAR(Data!$A$2:$A$1000)=D3),Data!$R$2:$R$1000))} -> 320 | E20: {=IF(SUMPRODUCT(--(YEAR(Data!$A$2:$A$1000)=E3),Data!$R$2:$R$1000)=0, "", SUMPRODUCT(--(YEAR(Data!$A$2:$A$1000)=E3),Data!$R$2:$R$1000))} -> 522 | F20: {=IF(SUMPRODUCT(--(YEAR(Data!$A$2:$A$1000)=F3),Data!$R$2:$R$1000)=0, "", SUMPRODUCT(--(YEAR(Data!$A$2:$A$1000)=F3),Data!$R$2:$R$1000))} -> 152 | G20: {=IF(SUMPRODUCT(--(YEAR(Data!$A$2:$A$1000)=G3),Data!$R$2:$R$1000)=0, "", SUMPRODUCT(--(YEAR(Data!$A$2:$A$1000)=G3),Data!$R$2:$R$1000))} -> 145 | H20: {=IF(SUMPRODUCT(--(YEAR(Data!$A$2:$A$1000)=H3),Data!$R$2:$R$1000)=0, "", SUMPRODUCT(--(YEAR(Data!$A$2:$A$1000)=H3),Data!$R$2:$R$1000))} -> 456 | I20: {=IF(SUMPRODUCT(--(YEAR(Data!$A$2:$A$1000)=I3),Data!$R$2:$R$1000)=0, "", SUMPRODUCT(--(YEAR(Data!$A$2:$A$1000)=I3),Data!$R$2:$R$1000))} | J20: {=IF(SUMPRODUCT(--(YEAR(Data!$A$2:$A$1000)=J3),Data!$R$2:$R$1000)=0, "", SUMPRODUCT(--(YEAR(Data!$A$2:$A$1000)=J3),Data!$R$2:$R$1000))} | ... M20: {=IF(SUMPRODUCT(--(YEAR(Data!$A$2:$A$1000)=M3),Data!$R$2:$R$1000)=0, "", SUMPRODUCT(--(YEAR(Data!$A$2:$A$1000)=M3),Data!$R$2:$R$1000))}
A21: Alt Yüklenici Firma Sayısı | B21: =SUM(C21:M21) -> 52 | C21: {=IF( SUMPRODUCT(--(YEAR(Data!$A$2:$A$1000)=C3), --(ISNUMBER(Data!$S$2:$S$1000)))=0, "", MAX(IF((YEAR(Data!$A$2:$A$1000)=C3)*(ISNUMBER(Data!$S$2:$S$1000)), Data!$S$2:$S$1000)) )} -> 10 | D21: {=IF( SUMPRODUCT(--(YEAR(Data!$A$2:$A$1000)=D3), --(ISNUMBER(Data!$S$2:$S$1000)))=0, "", MAX(IF((YEAR(Data!$A$2:$A$1000)=D3)*(ISNUMBER(Data!$S$2:$S$1000)), Data!$S$2:$S$1000)) )} -> 7 | E21: {=IF( SUMPRODUCT(--(YEAR(Data!$A$2:$A$1000)=E3), --(ISNUMBER(Data!$S$2:$S$1000)))=0, "", MAX(IF((YEAR(Data!$A$2:$A$1000)=E3)*(ISNUMBER(Data!$S$2:$S$1000)), Data!$S$2:$S$1000)) )} -> 9 | F21: {=IF( SUMPRODUCT(--(YEAR(Data!$A$2:$A$1000)=F3), --(ISNUMBER(Data!$S$2:$S$1000)))=0, "", MAX(IF((YEAR(Data!$A$2:$A$1000)=F3)*(ISNUMBER(Data!$S$2:$S$1000)), Data!$S$2:$S$1000)) )} -> 8 | G21: {=IF( SUMPRODUCT(--(YEAR(Data!$A$2:$A$1000)=G3), --(ISNUMBER(Data!$S$2:$S$1000)))=0, "", MAX(IF((YEAR(Data!$A$2:$A$1000)=G3)*(ISNUMBER(Data!$S$2:$S$1000)), Data!$S$2:$S$1000)) )} -> 8 | H21: {=IF( SUMPRODUCT(--(YEAR(Data!$A$2:$A$1000)=H3), --(ISNUMBER(Data!$S$2:$S$1000)))=0, "", MAX(IF((YEAR(Data!$A$2:$A$1000)=H3)*(ISNUMBER(Data!$S$2:$S$1000)), Data!$S$2:$S$1000)) )} -> 10 | I21: {=IF( SUMPRODUCT(--(YEAR(Data!$A$2:$A$1000)=I3), --(ISNUMBER(Data!$S$2:$S$1000)))=0, "", MAX(IF((YEAR(Data!$A$2:$A$1000)=I3)*(ISNUMBER(Data!$S$2:$S$1000)), Data!$S$2:$S$1000)) )} | J21: {=IF( SUMPRODUCT(--(YEAR(Data!$A$2:$A$1000)=J3), --(ISNUMBER(Data!$S$2:$S$1000)))=0, "", MAX(IF((YEAR(Data!$A$2:$A$1000)=J3)*(ISNUMBER(Data!$S$2:$S$1000)), Data!$S$2:$S$1000)) )} | ... M21: {=IF( SUMPRODUCT(--(YEAR(Data!$A$2:$A$1000)=M3), --(ISNUMBER(Data!$S$2:$S$1000)))=0, "", MAX(IF((YEAR(Data!$A$2:$A$1000)=M3)*(ISNUMBER(Data!$S$2:$S$1000)), Data!$S$2:$S$1000)) )}
A22: Alt İşveren Çalışan Sayısı | B22: =SUM(C22:M22) -> 43993 | C22: {=IF(SUMPRODUCT(--(YEAR(Data!$A$2:$A$1000)=C3),Data!$T$2:$T$1000)=0, "", SUMPRODUCT(--(YEAR(Data!$A$2:$A$1000)=C3),Data!$T$2:$T$1000))} -> 9344 | D22: {=IF(SUMPRODUCT(--(YEAR(Data!$A$2:$A$1000)=D3),Data!$T$2:$T$1000)=0, "", SUMPRODUCT(--(YEAR(Data!$A$2:$A$1000)=D3),Data!$T$2:$T$1000))} -> 9726 | E22: {=IF(SUMPRODUCT(--(YEAR(Data!$A$2:$A$1000)=E3),Data!$T$2:$T$1000)=0, "", SUMPRODUCT(--(YEAR(Data!$A$2:$A$1000)=E3),Data!$T$2:$T$1000))} -> 10771 | F22: {=IF(SUMPRODUCT(--(YEAR(Data!$A$2:$A$1000)=F3),Data!$T$2:$T$1000)=0, "", SUMPRODUCT(--(YEAR(Data!$A$2:$A$1000)=F3),Data!$T$2:$T$1000))} -> 4602 | G22: {=IF(SUMPRODUCT(--(YEAR(Data!$A$2:$A$1000)=G3),Data!$T$2:$T$1000)=0, "", SUMPRODUCT(--(YEAR(Data!$A$2:$A$1000)=G3),Data!$T$2:$T$1000))} -> 4590 | H22: {=IF(SUMPRODUCT(--(YEAR(Data!$A$2:$A$1000)=H3),Data!$T$2:$T$1000)=0, "", SUMPRODUCT(--(YEAR(Data!$A$2:$A$1000)=H3),Data!$T$2:$T$1000))} -> 4960 | I22: {=IF(SUMPRODUCT(--(YEAR(Data!$A$2:$A$1000)=I3),Data!$T$2:$T$1000)=0, "", SUMPRODUCT(--(YEAR(Data!$A$2:$A$1000)=I3),Data!$T$2:$T$1000))} | J22: {=IF(SUMPRODUCT(--(YEAR(Data!$A$2:$A$1000)=J3),Data!$T$2:$T$1000)=0, "", SUMPRODUCT(--(YEAR(Data!$A$2:$A$1000)=J3),Data!$T$2:$T$1000))} | ... M22: {=IF(SUMPRODUCT(--(YEAR(Data!$A$2:$A$1000)=M3),Data!$T$2:$T$1000)=0, "", SUMPRODUCT(--(YEAR(Data!$A$2:$A$1000)=M3),Data!$T$2:$T$1000))}
A24: =Dashboard!B3-1 -> 2023
A25: =Dashboard!B3 -> 2024 | B25: Ocak | C25: Şubat | D25: Mart | E25: Nisan | F25: Mayıs | G25: Haziran | H25: Temmuz | I25: Ağustos | J25: Eylül | K25: Ekim | L25: Kasım | M25: Aralık
A26: Çalışan Sayısı | B26: {=IFERROR(INDEX(Data!$B:$Z, MATCH(1, (YEAR(Data!$A:$A)=Dashboard!$B$3)*(MONTH(Data!$A:$A)=COLUMN(A$1)), 0), ROW(A1)), "")} -> 1248 | C26: {=IFERROR(INDEX(Data!$B:$Z, MATCH(1, (YEAR(Data!$A:$A)=Dashboard!$B$3)*(MONTH(Data!$A:$A)=COLUMN(B$1)), 0), ROW(B1)), "")} -> 1249 | D26: {=IFERROR(INDEX(Data!$B:$Z, MATCH(1, (YEAR(Data!$A:$A)=Dashboard!$B$3)*(MONTH(Data!$A:$A)=COLUMN(C$1)), 0), ROW(C1)), "")} -> 1250 | E26: {=IFERROR(INDEX(Data!$B:$Z, MATCH(1, (YEAR(Data!$A:$A)=Dashboard!$B$3)*(MONTH(Data!$A:$A)=COLUMN(D$1)), 0), ROW(D1)), "")} -> 1251 | F26: {=IFERROR(INDEX(Data!$B:$Z, MATCH(1, (YEAR(Data!$A:$A)=Dashboard!$B$3)*(MONTH(Data!$A:$A)=COLUMN(E$1)), 0), ROW(E1)), "")} -> 1252 | G26: {=IFERROR(INDEX(Data!$B:$Z, MATCH(1, (YEAR(Data!$A:$A)=Dashboard!$B$3)*(MONTH(Data!$A:$A)=COLUMN(F$1)), 0), ROW(F1)), "")} -> 1253 | H26: {=IFERROR(INDEX(Data!$B:$Z, MATCH(1, (YEAR(Data!$A:$A)=Dashboard!$B$3)*(MONTH(Data!$A:$A)=COLUMN(G$1)), 0), ROW(G1)), "")} -> 1254 | I26: {=IFERROR(INDEX(Data!$B:$Z, MATCH(1, (YEAR(Data!$A:$A)=Dashboard!$B$3)*(MONTH(Data!$A:$A)=COLUMN(H$1)), 0), ROW(H1)), "")} -> 1255 | ... M26: {=IFERROR(INDEX(Data!$B:$Z, MATCH(1, (YEAR(Data!$A:$A)=Dashboard!$B$3)*(MONTH(Data!$A:$A)=COLUMN(L$1)), 0), ROW(L1)), "")} -> 1259
B27: {=IFERROR(INDEX(Data!$B:$Z, MATCH(1, (YEAR(Data!$A:$A)=$A$24)*(MONTH(Data!$A:$A)=COLUMN(A$1)), 0), ROW(A1)), "")} -> 1236 | C27: {=IFERROR(INDEX(Data!$B:$Z, MATCH(1, (YEAR(Data!$A:$A)=$A$24)*(MONTH(Data!$A:$A)=COLUMN(B$1)), 0), ROW(B1)), "")} -> 1237 | D27: {=IFERROR(INDEX(Data!$B:$Z, MATCH(1, (YEAR(Data!$A:$A)=$A$24)*(MONTH(Data!$A:$A)=COLUMN(C$1)), 0), ROW(C1)), "")} -> 1238 | E27: {=IFERROR(INDEX(Data!$B:$Z, MATCH(1, (YEAR(Data!$A:$A)=$A$24)*(MONTH(Data!$A:$A)=COLUMN(D$1)), 0), ROW(D1)), "")} -> 1239 | F27: {=IFERROR(INDEX(Data!$B:$Z, MATCH(1, (YEAR(Data!$A:$A)=$A$24)*(MONTH(Data!$A:$A)=COLUMN(E$1)), 0), ROW(E1)), "")} -> 1240 | G27: {=IFERROR(INDEX(Data!$B:$Z, MATCH(1, (YEAR(Data!$A:$A)=$A$24)*(MONTH(Data!$A:$A)=COLUMN(F$1)), 0), ROW(F1)), "")} -> 1541 | H27: {=IFERROR(INDEX(Data!$B:$Z, MATCH(1, (YEAR(Data!$A:$A)=$A$24)*(MONTH(Data!$A:$A)=COLUMN(G$1)), 0), ROW(G1)), "")} -> 1242 | I27: {=IFERROR(INDEX(Data!$B:$Z, MATCH(1, (YEAR(Data!$A:$A)=$A$24)*(MONTH(Data!$A:$A)=COLUMN(H$1)), 0), ROW(H1)), "")} -> 1243 | ... M27: {=IFERROR(INDEX(Data!$B:$Z, MATCH(1, (YEAR(Data!$A:$A)=$A$24)*(MONTH(Data!$A:$A)=COLUMN(L$1)), 0), ROW(L1)), "")} -> 1247
B28: Ocak | C28: Şubat | D28: Mart | E28: Nisan | F28: Mayıs | G28: Haziran | H28: Temmuz | I28: Ağustos | J28: Eylül | K28: Ekim | L28: Kasım | M28: Aralık
A29: Adam/Saat | B29: {=IFERROR(INDEX(Data!$B:$Z, MATCH(1, (YEAR(Data!$A:$A)=Dashboard!$B$3)*(MONTH(Data!$A:$A)=COLUMN(A$1)), 0), ROW(A2)), "")} -> 299520 | C29: {=IFERROR(INDEX(Data!$B:$Z, MATCH(1, (YEAR(Data!$A:$A)=Dashboard!$B$3)*(MONTH(Data!$A:$A)=COLUMN(B$1)), 0), ROW(B2)), "")} -> 299760 | D29: {=IFERROR(INDEX(Data!$B:$Z, MATCH(1, (YEAR(Data!$A:$A)=Dashboard!$B$3)*(MONTH(Data!$A:$A)=COLUMN(C$1)), 0), ROW(C2)), "")} -> 300000 | E29: {=IFERROR(INDEX(Data!$B:$Z, MATCH(1, (YEAR(Data!$A:$A)=Dashboard!$B$3)*(MONTH(Data!$A:$A)=COLUMN(D$1)), 0), ROW(D2)), "")} -> 300240 | F29: {=IFERROR(INDEX(Data!$B:$Z, MATCH(1, (YEAR(Data!$A:$A)=Dashboard!$B$3)*(MONTH(Data!$A:$A)=COLUMN(E$1)), 0), ROW(E2)), "")} -> 300480 | G29: {=IFERROR(INDEX(Data!$B:$Z, MATCH(1, (YEAR(Data!$A:$A)=Dashboard!$B$3)*(MONTH(Data!$A:$A)=COLUMN(F$1)), 0), ROW(F2)), "")} -> 300720 | H29: {=IFERROR(INDEX(Data!$B:$Z, MATCH(1, (YEAR(Data!$A:$A)=Dashboard!$B$3)*(MONTH(Data!$A:$A)=COLUMN(G$1)), 0), ROW(G2)), "")} -> 300960 | I29: {=IFERROR(INDEX(Data!$B:$Z, MATCH(1, (YEAR(Data!$A:$A)=Dashboard!$B$3)*(MONTH(Data!$A:$A)=COLUMN(H$1)), 0), ROW(H2)), "")} -> 301200 | ... M29: {=IFERROR(INDEX(Data!$B:$Z, MATCH(1, (YEAR(Data!$A:$A)=Dashboard!$B$3)*(MONTH(Data!$A:$A)=COLUMN(L$1)), 0), ROW(L2)), "")} -> 302160
B30: {=IFERROR(INDEX(Data!$B:$Z, MATCH(1, (YEAR(Data!$A:$A)=$A$24)*(MONTH(Data!$A:$A)=COLUMN(A$1)), 0), ROW(A2)), "")} -> 296640 | C30: {=IFERROR(INDEX(Data!$B:$Z, MATCH(1, (YEAR(Data!$A:$A)=$A$24)*(MONTH(Data!$A:$A)=COLUMN(B$1)), 0), ROW(B2)), "")} -> 296880 | D30: {=IFERROR(INDEX(Data!$B:$Z, MATCH(1, (YEAR(Data!$A:$A)=$A$24)*(MONTH(Data!$A:$A)=COLUMN(C$1)), 0), ROW(C2)), "")} -> 297120 | E30: {=IFERROR(INDEX(Data!$B:$Z, MATCH(1, (YEAR(Data!$A:$A)=$A$24)*(MONTH(Data!$A:$A)=COLUMN(D$1)), 0), ROW(D2)), "")} -> 297360 | F30: {=IFERROR(INDEX(Data!$B:$Z, MATCH(1, (YEAR(Data!$A:$A)=$A$24)*(MONTH(Data!$A:$A)=COLUMN(E$1)), 0), ROW(E2)), "")} -> 297600 | G30: {=IFERROR(INDEX(Data!$B:$Z, MATCH(1, (YEAR(Data!$A:$A)=$A$24)*(MONTH(Data!$A:$A)=COLUMN(F$1)), 0), ROW(F2)), "")} -> 452321 | H30: {=IFERROR(INDEX(Data!$B:$Z, MATCH(1, (YEAR(Data!$A:$A)=$A$24)*(MONTH(Data!$A:$A)=COLUMN(G$1)), 0), ROW(G2)), "")} -> 298080 | I30: {=IFERROR(INDEX(Data!$B:$Z, MATCH(1, (YEAR(Data!$A:$A)=$A$24)*(MONTH(Data!$A:$A)=COLUMN(H$1)), 0), ROW(H2)), "")} -> 298320 | ... M30: {=IFERROR(INDEX(Data!$B:$Z, MATCH(1, (YEAR(Data!$A:$A)=$A$24)*(MONTH(Data!$A:$A)=COLUMN(L$1)), 0), ROW(L2)), "")} -> 299280
B31: Ocak | C31: Şubat | D31: Mart | E31: Nisan | F31: Mayıs | G31: Haziran | H31: Temmuz | I31: Ağustos | J31: Eylül | K31: Ekim | L31: Kasım | M31: Aralık
A32: Ölümlü İş Kazası | B32: {=IFERROR(INDEX(Data!$B:$Z, MATCH(1, (YEAR(Data!$A:$A)=Dashboard!$B$3)*(MONTH(Data!$A:$A)=COLUMN(A$1)), 0), ROW(A3)), "")} -> 10 | C32: {=IFERROR(INDEX(Data!$B:$Z, MATCH(1, (YEAR(Data!$A:$A)=Dashboard!$B$3)*(MONTH(Data!$A:$A)=COLUMN(B$1)), 0), ROW(B3)), "")} -> 8 | D32: {=IFERROR(INDEX(Data!$B:$Z, MATCH(1, (YEAR(Data!$A:$A)=Dashboard!$B$3)*(MONTH(Data!$A:$A)=COLUMN(C$1)), 0), ROW(C3)), "")} -> 6 | E32: {=IFERROR(INDEX(Data!$B:$Z, MATCH(1, (YEAR(Data!$A:$A)=Dashboard!$B$3)*(MONTH(Data!$A:$A)=COLUMN(D$1)), 0), ROW(D3)), "")} -> 7 | F32: {=IFERROR(INDEX(Data!$B:$Z, MATCH(1, (YEAR(Data!$A:$A)=Dashboard!$B$3)*(MONTH(Data!$A:$A)=COLUMN(E$1)), 0), ROW(E3)), "")} -> 7 | G32: {=IFERROR(INDEX(Data!$B:$Z, MATCH(1, (YEAR(Data!$A:$A)=Dashboard!$B$3)*(MONTH(Data!$A:$A)=COLUMN(F$1)), 0), ROW(F3)), "")} -> 7 | H32: {=IFERROR(INDEX(Data!$B:$Z, MATCH(1, (YEAR(Data!$A:$A)=Dashboard!$B$3)*(MONTH(Data!$A:$A)=COLUMN(G$1)), 0), ROW(G3)), "")} -> 8 | I32: {=IFERROR(INDEX(Data!$B:$Z, MATCH(1, (YEAR(Data!$A:$A)=Dashboard!$B$3)*(MONTH(Data!$A:$A)=COLUMN(H$1)), 0), ROW(H3)), "")} -> 9 | ... M32: {=IFERROR(INDEX(Data!$B:$Z, MATCH(1, (YEAR(Data!$A:$A)=Dashboard!$B$3)*(MONTH(Data!$A:$A)=COLUMN(L$1)), 0), ROW(L3)), "")} -> 3
B33: {=IFERROR(INDEX(Data!$B:$Z, MATCH(1, (YEAR(Data!$A:$A)=$A$24)*(MONTH(Data!$A:$A)=COLUMN(A$1)), 0), ROW(A3)), "")} -> 5 | C33: {=IFERROR(INDEX(Data!$B:$Z, MATCH(1, (YEAR(Data!$A:$A)=$A$24)*(MONTH(Data!$A:$A)=COLUMN(B$1)), 0), ROW(B3)), "")} -> 6 | D33: {=IFERROR(INDEX(Data!$B:$Z, MATCH(1, (YEAR(Data!$A:$A)=$A$24)*(MONTH(Data!$A:$A)=COLUMN(C$1)), 0), ROW(C3)), "")} -> 9 | E33: {=IFERROR(INDEX(Data!$B:$Z, MATCH(1, (YEAR(Data!$A:$A)=$A$24)*(MONTH(Data!$A:$A)=COLUMN(D$1)), 0), ROW(D3)), "")} -> 8 | F33: {=IFERROR(INDEX(Data!$B:$Z, MATCH(1, (YEAR(Data!$A:$A)=$A$24)*(MONTH(Data!$A:$A)=COLUMN(E$1)), 0), ROW(E3)), "")} -> 10 | G33: {=IFERROR(INDEX(Data!$B:$Z, MATCH(1, (YEAR(Data!$A:$A)=$A$24)*(MONTH(Data!$A:$A)=COLUMN(F$1)), 0), ROW(F3)), "")} -> 7 | H33: {=IFERROR(INDEX(Data!$B:$Z, MATCH(1, (YEAR(Data!$A:$A)=$A$24)*(MONTH(Data!$A:$A)=COLUMN(G$1)), 0), ROW(G3)), "")} -> 4 | I33: {=IFERROR(INDEX(Data!$B:$Z, MATCH(1, (YEAR(Data!$A:$A)=$A$24)*(MONTH(Data!$A:$A)=COLUMN(H$1)), 0), ROW(H3)), "")} -> 2 | ... M33: {=IFERROR(INDEX(Data!$B:$Z, MATCH(1, (YEAR(Data!$A:$A)=$A$24)*(MONTH(Data!$A:$A)=COLUMN(L$1)), 0), ROW(L3)), "")} -> 10
B34: Ocak | C34: Şubat | D34: Mart | E34: Nisan | F34: Mayıs | G34: Haziran | H34: Temmuz | I34: Ağustos | J34: Eylül | K34: Ekim | L34: Kasım | M34: Aralık
A35: Kayıp İş Günlü Kaza | B35: {=IFERROR(INDEX(Data!$B:$Z, MATCH(1, (YEAR(Data!$A:$A)=Dashboard!$B$3)*(MONTH(Data!$A:$A)=COLUMN(A$1)), 0), ROW(A4)), "")} -> 9 | C35: {=IFERROR(INDEX(Data!$B:$Z, MATCH(1, (YEAR(Data!$A:$A)=Dashboard!$B$3)*(MONTH(Data!$A:$A)=COLUMN(B$1)), 0), ROW(B4)), "")} -> 7 | D35: {=IFERROR(INDEX(Data!$B:$Z, MATCH(1, (YEAR(Data!$A:$A)=Dashboard!$B$3)*(MONTH(Data!$A:$A)=COLUMN(C$1)), 0), ROW(C4)), "")} -> 5 | E35: {=IFERROR(INDEX(Data!$B:$Z, MATCH(1, (YEAR(Data!$A:$A)=Dashboard!$B$3)*(MONTH(Data!$A:$A)=COLUMN(D$1)), 0), ROW(D4)), "")} -> 6 | F35: {=IFERROR(INDEX(Data!$B:$Z, MATCH(1, (YEAR(Data!$A:$A)=Dashboard!$B$3)*(MONTH(Data!$A:$A)=COLUMN(E$1)), 0), ROW(E4)), "")} -> 6 | G35: {=IFERROR(INDEX(Data!$B:$Z, MATCH(1, (YEAR(Data!$A:$A)=Dashboard!$B$3)*(MONTH(Data!$A:$A)=COLUMN(F$1)), 0), ROW(F4)), "")} -> 6 | H35: {=IFERROR(INDEX(Data!$B:$Z, MATCH(1, (YEAR(Data!$A:$A)=Dashboard!$B$3)*(MONTH(Data!$A:$A)=COLUMN(G$1)), 0), ROW(G4)), "")} -> 7 | I35: {=IFERROR(INDEX(Data!$B:$Z, MATCH(1, (YEAR(Data!$A:$A)=Dashboard!$B$3)*(MONTH(Data!$A:$A)=COLUMN(H$1)), 0), ROW(H4)), "")} -> 8 | ... M35: {=IFERROR(INDEX(Data!$B:$Z, MATCH(1, (YEAR(Data!$A:$A)=Dashboard!$B$3)*(MONTH(Data!$A:$A)=COLUMN(L$1)), 0), ROW(L4)), "")} -> 2
B36: {=IFERROR(INDEX(Data!$B:$Z, MATCH(1, (YEAR(Data!$A:$A)=$A$24)*(MONTH(Data!$A:$A)=COLUMN(A$1)), 0), ROW(A4)), "")} -> 4 | C36: {=IFERROR(INDEX(Data!$B:$Z, MATCH(1, (YEAR(Data!$A:$A)=$A$24)*(MONTH(Data!$A:$A)=COLUMN(B$1)), 0), ROW(B4)), "")} -> 5 | D36: {=IFERROR(INDEX(Data!$B:$Z, MATCH(1, (YEAR(Data!$A:$A)=$A$24)*(MONTH(Data!$A:$A)=COLUMN(C$1)), 0), ROW(C4)), "")} -> 8 | E36: {=IFERROR(INDEX(Data!$B:$Z, MATCH(1, (YEAR(Data!$A:$A)=$A$24)*(MONTH(Data!$A:$A)=COLUMN(D$1)), 0), ROW(D4)), "")} -> 7 | F36: {=IFERROR(INDEX(Data!$B:$Z, MATCH(1, (YEAR(Data!$A:$A)=$A$24)*(MONTH(Data!$A:$A)=COLUMN(E$1)), 0), ROW(E4)), "")} -> 9 | G36: {=IFERROR(INDEX(Data!$B:$Z, MATCH(1, (YEAR(Data!$A:$A)=$A$24)*(MONTH(Data!$A:$A)=COLUMN(F$1)), 0), ROW(F4)), "")} -> 6 | H36: {=IFERROR(INDEX(Data!$B:$Z, MATCH(1, (YEAR(Data!$A:$A)=$A$24)*(MONTH(Data!$A:$A)=COLUMN(G$1)), 0), ROW(G4)), "")} -> 3 | I36: {=IFERROR(INDEX(Data!$B:$Z, MATCH(1, (YEAR(Data!$A:$A)=$A$24)*(MONTH(Data!$A:$A)=COLUMN(H$1)), 0), ROW(H4)), "")} -> 1 | ... M36: {=IFERROR(INDEX(Data!$B:$Z, MATCH(1, (YEAR(Data!$A:$A)=$A$24)*(MONTH(Data!$A:$A)=COLUMN(L$1)), 0), ROW(L4)), "")} -> 9
B37: Ocak | C37: Şubat | D37: Mart | E37: Nisan | F37: Mayıs | G37: Haziran | H37: Temmuz | I37: Ağustos | J37: Eylül | K37: Ekim | L37: Kasım | M37: Aralık
A38: Kayıp İş Günü Sayısı | B38: {=IFERROR(INDEX(Data!$B:$Z, MATCH(1, (YEAR(Data!$A:$A)=Dashboard!$B$3)*(MONTH(Data!$A:$A)=COLUMN(A$1)), 0), ROW(A5)), "")} -> 10 | C38: {=IFERROR(INDEX(Data!$B:$Z, MATCH(1, (YEAR(Data!$A:$A)=Dashboard!$B$3)*(MONTH(Data!$A:$A)=COLUMN(B$1)), 0), ROW(B5)), "")} -> 3 | D38: {=IFERROR(INDEX(Data!$B:$Z, MATCH(1, (YEAR(Data!$A:$A)=Dashboard!$B$3)*(MONTH(Data!$A:$A)=COLUMN(C$1)), 0), ROW(C5)), "")} -> 10 | E38: {=IFERROR(INDEX(Data!$B:$Z, MATCH(1, (YEAR(Data!$A:$A)=Dashboard!$B$3)*(MONTH(Data!$A:$A)=COLUMN(D$1)), 0), ROW(D5)), "")} -> 8 | F38: {=IFERROR(INDEX(Data!$B:$Z, MATCH(1, (YEAR(Data!$A:$A)=Dashboard!$B$3)*(MONTH(Data!$A:$A)=COLUMN(E$1)), 0), ROW(E5)), "")} -> 9 | G38: {=IFERROR(INDEX(Data!$B:$Z, MATCH(1, (YEAR(Data!$A:$A)=Dashboard!$B$3)*(MONTH(Data!$A:$A)=COLUMN(F$1)), 0), ROW(F5)), "")} -> 63 | H38: {=IFERROR(INDEX(Data!$B:$Z, MATCH(1, (YEAR(Data!$A:$A)=Dashboard!$B$3)*(MONTH(Data!$A:$A)=COLUMN(G$1)), 0), ROW(G5)), "")} -> 7 | I38: {=IFERROR(INDEX(Data!$B:$Z, MATCH(1, (YEAR(Data!$A:$A)=Dashboard!$B$3)*(MONTH(Data!$A:$A)=COLUMN(H$1)), 0), ROW(H5)), "")} -> 65 | ... M38: {=IFERROR(INDEX(Data!$B:$Z, MATCH(1, (YEAR(Data!$A:$A)=Dashboard!$B$3)*(MONTH(Data!$A:$A)=COLUMN(L$1)), 0), ROW(L5)), "")} -> 69
B39: {=IFERROR(INDEX(Data!$B:$Z, MATCH(1, (YEAR(Data!$A:$A)=$A$24)*(MONTH(Data!$A:$A)=COLUMN(A$1)), 0), ROW(A5)), "")} -> 46 | C39: {=IFERROR(INDEX(Data!$B:$Z, MATCH(1, (YEAR(Data!$A:$A)=$A$24)*(MONTH(Data!$A:$A)=COLUMN(B$1)), 0), ROW(B5)), "")} -> 47 | D39: {=IFERROR(INDEX(Data!$B:$Z, MATCH(1, (YEAR(Data!$A:$A)=$A$24)*(MONTH(Data!$A:$A)=COLUMN(C$1)), 0), ROW(C5)), "")} -> 48 | E39: {=IFERROR(INDEX(Data!$B:$Z, MATCH(1, (YEAR(Data!$A:$A)=$A$24)*(MONTH(Data!$A:$A)=COLUMN(D$1)), 0), ROW(D5)), "")} -> 49 | F39: {=IFERROR(INDEX(Data!$B:$Z, MATCH(1, (YEAR(Data!$A:$A)=$A$24)*(MONTH(Data!$A:$A)=COLUMN(E$1)), 0), ROW(E5)), "")} -> 50 | G39: {=IFERROR(INDEX(Data!$B:$Z, MATCH(1, (YEAR(Data!$A:$A)=$A$24)*(MONTH(Data!$A:$A)=COLUMN(F$1)), 0), ROW(F5)), "")} -> 51 | H39: {=IFERROR(INDEX(Data!$B:$Z, MATCH(1, (YEAR(Data!$A:$A)=$A$24)*(MONTH(Data!$A:$A)=COLUMN(G$1)), 0), ROW(G5)), "")} -> 52 | I39: {=IFERROR(INDEX(Data!$B:$Z, MATCH(1, (YEAR(Data!$A:$A)=$A$24)*(MONTH(Data!$A:$A)=COLUMN(H$1)), 0), ROW(H5)), "")} -> 53 | ... M39: {=IFERROR(INDEX(Data!$B:$Z, MATCH(1, (YEAR(Data!$A:$A)=$A$24)*(MONTH(Data!$A:$A)=COLUMN(L$1)), 0), ROW(L5)), "")} -> 1
B40: Ocak | C40: Şubat | D40: Mart | E40: Nisan | F40: Mayıs | G40: Haziran | H40: Temmuz | I40: Ağustos | J40: Eylül | K40: Ekim | L40: Kasım | M40: Aralık
A41: İlk Yardım Gerektiren Kaza | B41: {=IFERROR(INDEX(Data!$B:$Z, MATCH(1, (YEAR(Data!$A:$A)=Dashboard!$B$3)*(MONTH(Data!$A:$A)=COLUMN(A$1)), 0), ROW(A6)), "")} -> 49 | C41: {=IFERROR(INDEX(Data!$B:$Z, MATCH(1, (YEAR(Data!$A:$A)=Dashboard!$B$3)*(MONTH(Data!$A:$A)=COLUMN(B$1)), 0), ROW(B6)), "")} -> 3 | D41: {=IFERROR(INDEX(Data!$B:$Z, MATCH(1, (YEAR(Data!$A:$A)=Dashboard!$B$3)*(MONTH(Data!$A:$A)=COLUMN(C$1)), 0), ROW(C6)), "")} -> 51 | E41: {=IFERROR(INDEX(Data!$B:$Z, MATCH(1, (YEAR(Data!$A:$A)=Dashboard!$B$3)*(MONTH(Data!$A:$A)=COLUMN(D$1)), 0), ROW(D6)), "")} -> 5 | F41: {=IFERROR(INDEX(Data!$B:$Z, MATCH(1, (YEAR(Data!$A:$A)=Dashboard!$B$3)*(MONTH(Data!$A:$A)=COLUMN(E$1)), 0), ROW(E6)), "")} -> 53 | G41: {=IFERROR(INDEX(Data!$B:$Z, MATCH(1, (YEAR(Data!$A:$A)=Dashboard!$B$3)*(MONTH(Data!$A:$A)=COLUMN(F$1)), 0), ROW(F6)), "")} -> 54 | H41: {=IFERROR(INDEX(Data!$B:$Z, MATCH(1, (YEAR(Data!$A:$A)=Dashboard!$B$3)*(MONTH(Data!$A:$A)=COLUMN(G$1)), 0), ROW(G6)), "")} -> 3 | I41: {=IFERROR(INDEX(Data!$B:$Z, MATCH(1, (YEAR(Data!$A:$A)=Dashboard!$B$3)*(MONTH(Data!$A:$A)=COLUMN(H$1)), 0), ROW(H6)), "")} -> 56 | ... M41: {=IFERROR(INDEX(Data!$B:$Z, MATCH(1, (YEAR(Data!$A:$A)=Dashboard!$B$3)*(MONTH(Data!$A:$A)=COLUMN(L$1)), 0), ROW(L6)), "")} -> 5
B42: {=IFERROR(INDEX(Data!$B:$Z, MATCH(1, (YEAR(Data!$A:$A)=$A$24)*(MONTH(Data!$A:$A)=COLUMN(A$1)), 0), ROW(A6)), "")} -> 37 | C42: {=IFERROR(INDEX(Data!$B:$Z, MATCH(1, (YEAR(Data!$A:$A)=$A$24)*(MONTH(Data!$A:$A)=COLUMN(B$1)), 0), ROW(B6)), "")} -> 38 | D42: {=IFERROR(INDEX(Data!$B:$Z, MATCH(1, (YEAR(Data!$A:$A)=$A$24)*(MONTH(Data!$A:$A)=COLUMN(C$1)), 0), ROW(C6)), "")} -> 39 | E42: {=IFERROR(INDEX(Data!$B:$Z, MATCH(1, (YEAR(Data!$A:$A)=$A$24)*(MONTH(Data!$A:$A)=COLUMN(D$1)), 0), ROW(D6)), "")} -> 40 | F42: {=IFERROR(INDEX(Data!$B:$Z, MATCH(1, (YEAR(Data!$A:$A)=$A$24)*(MONTH(Data!$A:$A)=COLUMN(E$1)), 0), ROW(E6)), "")} -> 41 | G42: {=IFERROR(INDEX(Data!$B:$Z, MATCH(1, (YEAR(Data!$A:$A)=$A$24)*(MONTH(Data!$A:$A)=COLUMN(F$1)), 0), ROW(F6)), "")} -> 42 | H42: {=IFERROR(INDEX(Data!$B:$Z, MATCH(1, (YEAR(Data!$A:$A)=$A$24)*(MONTH(Data!$A:$A)=COLUMN(G$1)), 0), ROW(G6)), "")} -> 5 | I42: {=IFERROR(INDEX(Data!$B:$Z, MATCH(1, (YEAR(Data!$A:$A)=$A$24)*(MONTH(Data!$A:$A)=COLUMN(H$1)), 0), ROW(H6)), "")} -> 44 | ... M42: {=IFERROR(INDEX(Data!$B:$Z, MATCH(1, (YEAR(Data!$A:$A)=$A$24)*(MONTH(Data!$A:$A)=COLUMN(L$1)), 0), ROW(L6)), "")} -> 48
B43: Ocak | C43: Şubat | D43: Mart | E43: Nisan | F43: Mayıs | G43: Haziran | H43: Temmuz | I43: Ağustos | J43: Eylül | K43: Ekim | L43: Kasım | M43: Aralık
...
